BEGIN:VCALENDAR
VERSION:2.0
PRODID:-//PCA Schonesland - ECPv6.15.20//NONSGML v1.0//EN
CALSCALE:GREGORIAN
METHOD:PUBLISH
X-WR-CALNAME:PCA Schonesland
X-ORIGINAL-URL:https://schonesland.com
X-WR-CALDESC:Events for PCA Schonesland
REFRESH-INTERVAL;VALUE=DURATION:PT1H
X-Robots-Tag:noindex
X-PUBLISHED-TTL:PT1H
BEGIN:VTIMEZONE
TZID:America/Chicago
BEGIN:DAYLIGHT
TZOFFSETFROM:-0600
TZOFFSETTO:-0500
TZNAME:CDT
DTSTART:20250309T080000
END:DAYLIGHT
BEGIN:STANDARD
TZOFFSETFROM:-0500
TZOFFSETTO:-0600
TZNAME:CST
DTSTART:20251102T070000
END:STANDARD
BEGIN:DAYLIGHT
TZOFFSETFROM:-0600
TZOFFSETTO:-0500
TZNAME:CDT
DTSTART:20260308T080000
END:DAYLIGHT
BEGIN:STANDARD
TZOFFSETFROM:-0500
TZOFFSETTO:-0600
TZNAME:CST
DTSTART:20261101T070000
END:STANDARD
BEGIN:DAYLIGHT
TZOFFSETFROM:-0600
TZOFFSETTO:-0500
TZNAME:CDT
DTSTART:20270314T080000
END:DAYLIGHT
BEGIN:STANDARD
TZOFFSETFROM:-0500
TZOFFSETTO:-0600
TZNAME:CST
DTSTART:20271107T070000
END:STANDARD
END:VTIMEZONE
BEGIN:VEVENT
DTSTART;TZID=America/Chicago:20260421T183000
DTEND;TZID=America/Chicago:20260421T203000
DTSTAMP:20260421T021325
CREATED:20260228T215118Z
LAST-MODIFIED:20260228T223637Z
UID:10000409-1776796200-1776803400@schonesland.com
SUMMARY:Drive and Dine - Five Points\, Dallas Center
DESCRIPTION:Join us on the third Tuesday of every month at 6:30 pm for great food and great conversation in celebration of great cars! \nIn April we’ll be meeting at Five Points in Dallas Center. You can find current and recent menus on their Facebook page here. See you there!
URL:https://schonesland.com/event/drive-and-dine-apr-2026/
LOCATION:Five Points Dallas Center\, 1415 Walnut St\, Dallas Center\, IA\, 50063\, United States
CATEGORIES:Social Events
ATTACH;FMTTYPE=image/png:https://schonesland.com/wp-content/uploads/2026/02/five-points.png
END:VEVENT
END:VCALENDAR