BEGIN:VCALENDAR
VERSION:2.0
PRODID:-//PCA Schonesland - ECPv6.15.20//NONSGML v1.0//EN
CALSCALE:GREGORIAN
METHOD:PUBLISH
X-ORIGINAL-URL:https://schonesland.com
X-WR-CALDESC:Events for PCA Schonesland
REFRESH-INTERVAL;VALUE=DURATION:PT1H
X-Robots-Tag:noindex
X-PUBLISHED-TTL:PT1H
BEGIN:VTIMEZONE
TZID:America/Chicago
BEGIN:DAYLIGHT
TZOFFSETFROM:-0600
TZOFFSETTO:-0500
TZNAME:CDT
DTSTART:20250309T080000
END:DAYLIGHT
BEGIN:STANDARD
TZOFFSETFROM:-0500
TZOFFSETTO:-0600
TZNAME:CST
DTSTART:20251102T070000
END:STANDARD
BEGIN:DAYLIGHT
TZOFFSETFROM:-0600
TZOFFSETTO:-0500
TZNAME:CDT
DTSTART:20260308T080000
END:DAYLIGHT
BEGIN:STANDARD
TZOFFSETFROM:-0500
TZOFFSETTO:-0600
TZNAME:CST
DTSTART:20261101T070000
END:STANDARD
BEGIN:DAYLIGHT
TZOFFSETFROM:-0600
TZOFFSETTO:-0500
TZNAME:CDT
DTSTART:20270314T080000
END:DAYLIGHT
BEGIN:STANDARD
TZOFFSETFROM:-0500
TZOFFSETTO:-0600
TZNAME:CST
DTSTART:20271107T070000
END:STANDARD
END:VTIMEZONE
BEGIN:VEVENT
DTSTART;VALUE=DATE:20260613
DTEND;VALUE=DATE:20260615
DTSTAMP:20260421T112515
CREATED:20260301T033633Z
LAST-MODIFIED:20260301T040645Z
UID:10000761-1781308800-1781481599@schonesland.com
SUMMARY:DMVR SCCA Autocross Competition (not a PCA event)
DESCRIPTION:DMVR SCCA is hosting an autocross autocross competition on Saturday\, June 13 and Sunday\, June 14 at Iowa Speedway in Newton. For more information\, visit DMVR’s Facebook page or the DMVR SCCA website (note: website information updates may occasionally lag behind those on Facebook).
URL:https://schonesland.com/event/dmvr-scca-autocross-competition-jun-2026/
LOCATION:Iowa Speedway Newton\, 3333 Rusty Wallace Dr\, Newton\, 50208\, United States
CATEGORIES:Non-PCA Driving Events
ATTACH;FMTTYPE=image/png:https://schonesland.com/wp-content/uploads/2023/04/non-pca-driving.png
END:VEVENT
END:VCALENDAR