BEGIN:VCALENDAR
VERSION:2.0
PRODID:-//PCA Schonesland - ECPv6.15.20//NONSGML v1.0//EN
CALSCALE:GREGORIAN
METHOD:PUBLISH
X-WR-CALNAME:PCA Schonesland
X-ORIGINAL-URL:https://schonesland.com
X-WR-CALDESC:Events for PCA Schonesland
REFRESH-INTERVAL;VALUE=DURATION:PT1H
X-Robots-Tag:noindex
X-PUBLISHED-TTL:PT1H
BEGIN:VTIMEZONE
TZID:America/Chicago
BEGIN:DAYLIGHT
TZOFFSETFROM:-0600
TZOFFSETTO:-0500
TZNAME:CDT
DTSTART:20220313T080000
END:DAYLIGHT
BEGIN:STANDARD
TZOFFSETFROM:-0500
TZOFFSETTO:-0600
TZNAME:CST
DTSTART:20221106T070000
END:STANDARD
BEGIN:DAYLIGHT
TZOFFSETFROM:-0600
TZOFFSETTO:-0500
TZNAME:CDT
DTSTART:20230312T080000
END:DAYLIGHT
BEGIN:STANDARD
TZOFFSETFROM:-0500
TZOFFSETTO:-0600
TZNAME:CST
DTSTART:20231105T070000
END:STANDARD
BEGIN:DAYLIGHT
TZOFFSETFROM:-0600
TZOFFSETTO:-0500
TZNAME:CDT
DTSTART:20240310T080000
END:DAYLIGHT
BEGIN:STANDARD
TZOFFSETFROM:-0500
TZOFFSETTO:-0600
TZNAME:CST
DTSTART:20241103T070000
END:STANDARD
BEGIN:DAYLIGHT
TZOFFSETFROM:-0600
TZOFFSETTO:-0500
TZNAME:CDT
DTSTART:20250309T080000
END:DAYLIGHT
BEGIN:STANDARD
TZOFFSETFROM:-0500
TZOFFSETTO:-0600
TZNAME:CST
DTSTART:20251102T070000
END:STANDARD
BEGIN:DAYLIGHT
TZOFFSETFROM:-0600
TZOFFSETTO:-0500
TZNAME:CDT
DTSTART:20260308T080000
END:DAYLIGHT
BEGIN:STANDARD
TZOFFSETFROM:-0500
TZOFFSETTO:-0600
TZNAME:CST
DTSTART:20261101T070000
END:STANDARD
BEGIN:DAYLIGHT
TZOFFSETFROM:-0600
TZOFFSETTO:-0500
TZNAME:CDT
DTSTART:20270314T080000
END:DAYLIGHT
BEGIN:STANDARD
TZOFFSETFROM:-0500
TZOFFSETTO:-0600
TZNAME:CST
DTSTART:20271107T070000
END:STANDARD
END:VTIMEZONE
BEGIN:VEVENT
DTSTART;VALUE=DATE:20260412
DTEND;VALUE=DATE:20260413
DTSTAMP:20260421T035817
CREATED:20260301T032021Z
LAST-MODIFIED:20260301T040710Z
UID:10000757-1775952000-1776038399@schonesland.com
SUMMARY:DMVR SCCA Autocross Competition (not a PCA event)
DESCRIPTION:DMVR SCCA is hosting an autocross autocross competition on Sunday\, April 12 at the Iowa State Fairgrounds. For more information\, visit DMVR’s Facebook page or the DMVR SCCA website (note: website information updates may occasionally lag behind those on Facebook).
URL:https://schonesland.com/event/dmvr-scca-autocross-competition-apr-2026/
LOCATION:Iowa State Fairgrounds Des Moines\, 3000 E Grand Ave\, Des Moines\, IA\, 50317\, United States
CATEGORIES:Non-PCA Driving Events
ATTACH;FMTTYPE=image/png:https://schonesland.com/wp-content/uploads/2023/04/non-pca-driving.png
END:VEVENT
BEGIN:VEVENT
DTSTART;VALUE=DATE:20260411
DTEND;VALUE=DATE:20260413
DTSTAMP:20260421T035817
CREATED:20260301T031618Z
LAST-MODIFIED:20260301T032524Z
UID:10000756-1775865600-1776038399@schonesland.com
SUMMARY:SCCA Track Experience and Time Trial (not a PCA event)
DESCRIPTION:The SCCA is hosting a Track Experience and Time Trial event on Saturday\, April 11 and Sunday\, April 12 in St. Louis\, MO at Gateway Motorsports Park. For more information\, visit the SCCA website.
URL:https://schonesland.com/event/scca-track-experience-and-time-trial-apr-2026/
LOCATION:Gateway Motorsports Park St Louis\, 700 Raceway Blvd\, Madison\, IL\, 62060\, United States
CATEGORIES:Non-PCA Driving Events
ATTACH;FMTTYPE=image/png:https://schonesland.com/wp-content/uploads/2023/08/pca-track-event.png
END:VEVENT
BEGIN:VEVENT
DTSTART;VALUE=DATE:20260411
DTEND;VALUE=DATE:20260412
DTSTAMP:20260421T035817
CREATED:20260301T032717Z
LAST-MODIFIED:20260301T035117Z
UID:10000758-1775865600-1775951999@schonesland.com
SUMMARY:DMVR SCCA Beginners' Autocross School (not a PCA event)
DESCRIPTION:DMVR SCCA is hosting an instructional autocross event specifically for newcomers to the sport on Saturday\, April 11 at the Iowa State Fairgrounds. For more information\, visit DMVR’s Facebook page or the DMVR SCCA website (note: website information updates may occasionally lag behind those on Facebook).
URL:https://schonesland.com/event/dmvr-scca-beginners-autocross-school-apr-2026/
LOCATION:Iowa State Fairgrounds Des Moines\, 3000 E Grand Ave\, Des Moines\, IA\, 50317\, United States
CATEGORIES:Non-PCA Driving Events
ATTACH;FMTTYPE=image/png:https://schonesland.com/wp-content/uploads/2023/04/non-pca-driving.png
END:VEVENT
BEGIN:VEVENT
DTSTART;VALUE=DATE:20241012
DTEND;VALUE=DATE:20241014
DTSTAMP:20260421T035817
CREATED:20240124T003254Z
LAST-MODIFIED:20240124T003254Z
UID:10000524-1728691200-1728863999@schonesland.com
SUMMARY:DMVR SCCA Autocross (not a PCA event)
DESCRIPTION:This autocross event is being held at Merle Hay Mall in the North End Lot. Visit https://www.facebook.com/groups/DMVRSCCA for additional information.
URL:https://schonesland.com/event/dmvr-scca-autocross-not-a-pca-event-8/
CATEGORIES:Non-PCA Driving Events
ATTACH;FMTTYPE=image/png:https://schonesland.com/wp-content/uploads/2023/04/non-pca-driving.png
END:VEVENT
BEGIN:VEVENT
DTSTART;VALUE=DATE:20241012
DTEND;VALUE=DATE:20241013
DTSTAMP:20260421T035817
CREATED:20240124T003820Z
LAST-MODIFIED:20240124T003820Z
UID:10000531-1728691200-1728777599@schonesland.com
SUMMARY:SCCA / MIDIV Time Trials and Track Experience - Newton\, IA (not a PCA event)
DESCRIPTION:This Time Trials and Track Experience is being held on the road course at Iowa Speedway in Newton\, IA. Visit https://www.dmvrscca.org/club-trials-schedule/ for additional information.
URL:https://schonesland.com/event/scca-midiv-time-trials-and-track-experience-newton-ia-not-a-pca-event/
CATEGORIES:Non-PCA Driving Events
ATTACH;FMTTYPE=image/png:https://schonesland.com/wp-content/uploads/2023/04/non-pca-driving.png
END:VEVENT
BEGIN:VEVENT
DTSTART;VALUE=DATE:20240921
DTEND;VALUE=DATE:20240923
DTSTAMP:20260421T035817
CREATED:20240124T003325Z
LAST-MODIFIED:20240124T003325Z
UID:10000526-1726876800-1727049599@schonesland.com
SUMMARY:DMVR SCCA Autocross (not a PCA event)
DESCRIPTION:This autocross event is being held at Valley West Mall. Visit https://www.facebook.com/groups/DMVRSCCA for additional information.
URL:https://schonesland.com/event/dmvr-scca-autocross-not-a-pca-event-10/
CATEGORIES:Non-PCA Driving Events
ATTACH;FMTTYPE=image/png:https://schonesland.com/wp-content/uploads/2023/04/non-pca-driving.png
END:VEVENT
BEGIN:VEVENT
DTSTART;VALUE=DATE:20240921
DTEND;VALUE=DATE:20240922
DTSTAMP:20260421T035817
CREATED:20240124T003736Z
LAST-MODIFIED:20240124T003736Z
UID:10000530-1726876800-1726963199@schonesland.com
SUMMARY:SCCA / MIDIV Time Trials and Track Experience - Pacific Junction\, IA (not a PCA event)
DESCRIPTION:This Time Trials and Track Experience is being held at Raceway Park of the Midlands in Pacific Junction\, IA. Visit https://www.dmvrscca.org/club-trials-schedule/ for additional information.
URL:https://schonesland.com/event/scca-midiv-time-trials-and-track-experience-pacific-junction-ia-not-a-pca-event/
CATEGORIES:Non-PCA Driving Events
ATTACH;FMTTYPE=image/png:https://schonesland.com/wp-content/uploads/2023/04/non-pca-driving.png
END:VEVENT
BEGIN:VEVENT
DTSTART;VALUE=DATE:20240817
DTEND;VALUE=DATE:20240819
DTSTAMP:20260421T035817
CREATED:20240124T003240Z
LAST-MODIFIED:20240124T003240Z
UID:10000523-1723852800-1724025599@schonesland.com
SUMMARY:DMVR SCCA Autocross (not a PCA event)
DESCRIPTION:This autocross event is being held at Merle Hay Mall in the North End Lot. Visit https://www.facebook.com/groups/DMVRSCCA for additional information.
URL:https://schonesland.com/event/dmvr-scca-autocross-not-a-pca-event-7/
CATEGORIES:Non-PCA Driving Events
ATTACH;FMTTYPE=image/png:https://schonesland.com/wp-content/uploads/2023/04/non-pca-driving.png
END:VEVENT
BEGIN:VEVENT
DTSTART;VALUE=DATE:20240810
DTEND;VALUE=DATE:20240812
DTSTAMP:20260421T035817
CREATED:20240124T003654Z
LAST-MODIFIED:20240124T003654Z
UID:10000529-1723248000-1723420799@schonesland.com
SUMMARY:SCCA / MIDIV Time Trials and Track Experience - Hastings\, NE (not a PCA event)
DESCRIPTION:This Time Trials and Track Experience is being held at Hastings Motorsport Park in Hastings\, NE. Visit https://www.dmvrscca.org/club-trials-schedule/ for additional information.
URL:https://schonesland.com/event/scca-midiv-time-trials-and-track-experience-hastings-ne-not-a-pca-event/
CATEGORIES:Non-PCA Driving Events
ATTACH;FMTTYPE=image/png:https://schonesland.com/wp-content/uploads/2023/04/non-pca-driving.png
END:VEVENT
BEGIN:VEVENT
DTSTART;VALUE=DATE:20240720
DTEND;VALUE=DATE:20240722
DTSTAMP:20260421T035817
CREATED:20240124T003311Z
LAST-MODIFIED:20240124T003311Z
UID:10000525-1721433600-1721606399@schonesland.com
SUMMARY:DMVR SCCA Autocross (not a PCA event)
DESCRIPTION:This autocross event is being held at Valley West Mall. Visit https://www.facebook.com/groups/DMVRSCCA for additional information.
URL:https://schonesland.com/event/dmvr-scca-autocross-not-a-pca-event-9/
CATEGORIES:Non-PCA Driving Events
ATTACH;FMTTYPE=image/png:https://schonesland.com/wp-content/uploads/2023/04/non-pca-driving.png
END:VEVENT
BEGIN:VEVENT
DTSTART;VALUE=DATE:20240706
DTEND;VALUE=DATE:20240708
DTSTAMP:20260421T035817
CREATED:20240124T003613Z
LAST-MODIFIED:20240124T003622Z
UID:10000528-1720224000-1720396799@schonesland.com
SUMMARY:SCCA / MIDIV Time Trials and Track Experience - Byers\, CO (not a PCA event)
DESCRIPTION:This Time Trials and Track Experience is being held at High Plains Raceway in Byers\, CO. Visit https://www.dmvrscca.org/club-trials-schedule/ for additional information.
URL:https://schonesland.com/event/scca-midiv-time-trials-and-track-experience-byers-co-not-a-pca-event/
CATEGORIES:Non-PCA Driving Events
ATTACH;FMTTYPE=image/png:https://schonesland.com/wp-content/uploads/2023/04/non-pca-driving.png
END:VEVENT
BEGIN:VEVENT
DTSTART;VALUE=DATE:20240622
DTEND;VALUE=DATE:20240624
DTSTAMP:20260421T035817
CREATED:20240124T003226Z
LAST-MODIFIED:20240124T003226Z
UID:10000522-1719014400-1719187199@schonesland.com
SUMMARY:DMVR SCCA Autocross (not a PCA event)
DESCRIPTION:This autocross event is being held at Merle Hay Mall in the North End Lot. Visit https://www.facebook.com/groups/DMVRSCCA for additional information.
URL:https://schonesland.com/event/dmvr-scca-autocross-not-a-pca-event-6/
CATEGORIES:Non-PCA Driving Events
ATTACH;FMTTYPE=image/png:https://schonesland.com/wp-content/uploads/2023/04/non-pca-driving.png
END:VEVENT
BEGIN:VEVENT
DTSTART;VALUE=DATE:20240601
DTEND;VALUE=DATE:20240603
DTSTAMP:20260421T035817
CREATED:20240124T003541Z
LAST-MODIFIED:20240124T003541Z
UID:10000527-1717200000-1717372799@schonesland.com
SUMMARY:SCCA / MIDIV Time Trials and Track Experience - Gravois\, MO (not a PCA event)
DESCRIPTION:This Time Trials and Track Experience is being held at Ozark International Raceway in Gravois\, MO. Visit https://www.dmvrscca.org/club-trials-schedule/ for additional information.
URL:https://schonesland.com/event/scca-midiv-time-trials-and-track-experience-gravois-mo-not-a-pca-event/
CATEGORIES:Non-PCA Driving Events
ATTACH;FMTTYPE=image/png:https://schonesland.com/wp-content/uploads/2023/04/non-pca-driving.png
END:VEVENT
BEGIN:VEVENT
DTSTART;VALUE=DATE:20240518
DTEND;VALUE=DATE:20240520
DTSTAMP:20260421T035817
CREATED:20240124T003206Z
LAST-MODIFIED:20240124T003206Z
UID:10000521-1715990400-1716163199@schonesland.com
SUMMARY:DMVR SCCA Autocross (not a PCA event)
DESCRIPTION:This autocross event is being held at Valley West Mall. Visit https://www.facebook.com/groups/DMVRSCCA for additional information.
URL:https://schonesland.com/event/dmvr-scca-autocross-not-a-pca-event-5/
CATEGORIES:Non-PCA Driving Events
ATTACH;FMTTYPE=image/png:https://schonesland.com/wp-content/uploads/2023/04/non-pca-driving.png
END:VEVENT
BEGIN:VEVENT
DTSTART;VALUE=DATE:20240420
DTEND;VALUE=DATE:20240422
DTSTAMP:20260421T035817
CREATED:20240124T003119Z
LAST-MODIFIED:20240124T003119Z
UID:10000520-1713571200-1713743999@schonesland.com
SUMMARY:DMVR SCCA Autocross (not a PCA event)
DESCRIPTION:This autocross event is being held at Merle Hay Mall in the North End Lot. Visit https://www.facebook.com/groups/DMVRSCCA for additional information.
URL:https://schonesland.com/event/dmvr-scca-autocross-not-a-pca-event-4/
CATEGORIES:Non-PCA Driving Events
ATTACH;FMTTYPE=image/png:https://schonesland.com/wp-content/uploads/2023/04/non-pca-driving.png
END:VEVENT
BEGIN:VEVENT
DTSTART;TZID=America/Chicago:20230923T070000
DTEND;TZID=America/Chicago:20230924T140000
DTSTAMP:20260421T035817
CREATED:20230419T181911Z
LAST-MODIFIED:20230419T181911Z
UID:10000254-1695452400-1695564000@schonesland.com
SUMMARY:DMVR SCCA Autocross (not a PCA event)
DESCRIPTION:This autocross event is being held at Merle Hay Mall in the North End Lot. Visit https://www.facebook.com/groups/DMVRSCCA for additional information.
URL:https://schonesland.com/event/dmvr-scca-autocross-not-a-pca-event-3/
LOCATION:Merle Hay Mall Des Moines\, 3800 Merle Hay Rd\, Des Moines\, IA\, 50310\, United States
CATEGORIES:Non-PCA Driving Events
ATTACH;FMTTYPE=image/png:https://schonesland.com/wp-content/uploads/2023/04/non-pca-driving.png
END:VEVENT
BEGIN:VEVENT
DTSTART;TZID=America/Chicago:20230722T070000
DTEND;TZID=America/Chicago:20230723T140000
DTSTAMP:20260421T035817
CREATED:20230419T175626Z
LAST-MODIFIED:20230630T050455Z
UID:10000250-1690009200-1690120800@schonesland.com
SUMMARY:DMVR SCCA Autocross (not a PCA event)
DESCRIPTION:This autocross event is being held at Merle Hay Mall in the North End Lot. Visit https://www.facebook.com/groups/DMVRSCCA for additional information.
URL:https://schonesland.com/event/dmvr-scca-autocross-not-a-pca-event-2/
LOCATION:Merle Hay Mall Des Moines\, 3800 Merle Hay Rd\, Des Moines\, IA\, 50310\, United States
CATEGORIES:Non-PCA Driving Events
ATTACH;FMTTYPE=image/png:https://schonesland.com/wp-content/uploads/2023/04/non-pca-driving.png
END:VEVENT
BEGIN:VEVENT
DTSTART;TZID=America/Chicago:20230520T070000
DTEND;TZID=America/Chicago:20230521T140000
DTSTAMP:20260421T035817
CREATED:20230419T174200Z
LAST-MODIFIED:20230419T174200Z
UID:10000246-1684566000-1684677600@schonesland.com
SUMMARY:DMVR SCCA Autocross (not a PCA event)
DESCRIPTION:This autocross event is being held at Merle Hay Mall in the North End Lot. Visit https://www.facebook.com/groups/DMVRSCCA for additional information.
URL:https://schonesland.com/event/dmvr-scca-autocross-not-a-pca-event/
LOCATION:Merle Hay Mall Des Moines\, 3800 Merle Hay Rd\, Des Moines\, IA\, 50310\, United States
CATEGORIES:Non-PCA Driving Events
ATTACH;FMTTYPE=image/png:https://schonesland.com/wp-content/uploads/2023/04/non-pca-driving.png
END:VEVENT
END:VCALENDAR