BEGIN:VCALENDAR
VERSION:2.0
PRODID:-//PCA Schonesland - ECPv6.15.20//NONSGML v1.0//EN
CALSCALE:GREGORIAN
METHOD:PUBLISH
X-ORIGINAL-URL:https://schonesland.com
X-WR-CALDESC:Events for PCA Schonesland
REFRESH-INTERVAL;VALUE=DURATION:PT1H
X-Robots-Tag:noindex
X-PUBLISHED-TTL:PT1H
BEGIN:VTIMEZONE
TZID:America/Chicago
BEGIN:DAYLIGHT
TZOFFSETFROM:-0600
TZOFFSETTO:-0500
TZNAME:CDT
DTSTART:20230312T080000
END:DAYLIGHT
BEGIN:STANDARD
TZOFFSETFROM:-0500
TZOFFSETTO:-0600
TZNAME:CST
DTSTART:20231105T070000
END:STANDARD
BEGIN:DAYLIGHT
TZOFFSETFROM:-0600
TZOFFSETTO:-0500
TZNAME:CDT
DTSTART:20240310T080000
END:DAYLIGHT
BEGIN:STANDARD
TZOFFSETFROM:-0500
TZOFFSETTO:-0600
TZNAME:CST
DTSTART:20241103T070000
END:STANDARD
BEGIN:DAYLIGHT
TZOFFSETFROM:-0600
TZOFFSETTO:-0500
TZNAME:CDT
DTSTART:20250309T080000
END:DAYLIGHT
BEGIN:STANDARD
TZOFFSETFROM:-0500
TZOFFSETTO:-0600
TZNAME:CST
DTSTART:20251102T070000
END:STANDARD
END:VTIMEZONE
BEGIN:VEVENT
DTSTART;TZID=America/Chicago:20240518T074500
DTEND;TZID=America/Chicago:20240519T140000
DTSTAMP:20260422T100028
CREATED:20231231T221527Z
LAST-MODIFIED:20240321T014651Z
UID:10000504-1716018300-1716127200@schonesland.com
SUMMARY:Schonesland 2024 Drive to Nauvoo
DESCRIPTION:Please join us on Saturday\, May 18 and Sunday\, May 19 for our overnight Iowa Waterfalls SUV Driving Tour! Click here to register for the drive! \nNote: This drive will utilize the Ride with GPS app for turn-by-turn voice navigation in lieu of printed instructions. \nDay 1 \nMain attractions:\n•    Scenic Mississippi river vistas\n•    Nauvoo Temple\n•    Great River Bridge \nEvent start: (Driver meeting @ 7:45 AM\, depart at 8:30 AM)\nKwik Star\n2030 21st St NW\, Altoona\, IA 50009 \nMorning rest break:\nCasey’s General Store \n1117 S Clinton St\, Albia\, IA 52531 \nLunch stop:\nRiverbend Pizza and Steakhouse\n603 1st St\, Keosauqua\, IA 52565\n319-293-9900 \nAfternoon rest break:\nCasey’s General Store\n326 Main St\, Keokuk\, IA 52632 \nHotel:\nHampton Inn Burlington\n3001 Winegard Dr Suite 130\, Burlington\, IA 52601\n319-237-0700\nRoom rate $159 (protected until May 4th)\, breakfast included\nHotel standard cancellation policy applies to our booking\nClick here for direct booking at our reduced rate:\n►https://bit.ly/48yq7nQ \nDinner:\nMartini’s Grill (5 minute drive from Hampton Inn)\n610 North 4th Street\, Suite 400\, Burlington\, Iowa 52601\n319-752-6262\nCash bar starting at 6:00pm\, dinner at 7:00pm \n(Dinner selection must be made and paid at time of registration) \nDay 2 \nMain attractions:\n•    Snake Alley\n•    Scenic Mississippi river overlook\n•    Scenic Mississippi river vistas \nEvent start: (Driver meeting @ 8:00 AM\, depart at 8:30 AM)\nHotel parking lot \nMorning rest break:\nCasey’s General Store\n4701 US-61\, Muscatine\, IA 52761 \nLunch stop:\nKalona Brewing Company\n405 B Ave\, Kalona\, IA 52247\n319-656-3335 \nMid-afternoon break and end of drive:\nCasey’s General Store\n106 N Front St\, Montezuma\, IA 50171
URL:https://schonesland.com/event/iowa-waterfalls-suv-driving-tour/
CATEGORIES:Driving Tours
ATTACH;FMTTYPE=image/jpeg:https://schonesland.com/wp-content/uploads/2023/12/Nauvoo.jpeg
END:VEVENT
END:VCALENDAR