BEGIN:VCALENDAR
VERSION:2.0
PRODID:-//PCA Schonesland - ECPv6.15.20//NONSGML v1.0//EN
CALSCALE:GREGORIAN
METHOD:PUBLISH
X-ORIGINAL-URL:https://schonesland.com
X-WR-CALDESC:Events for PCA Schonesland
REFRESH-INTERVAL;VALUE=DURATION:PT1H
X-Robots-Tag:noindex
X-PUBLISHED-TTL:PT1H
BEGIN:VTIMEZONE
TZID:America/Chicago
BEGIN:DAYLIGHT
TZOFFSETFROM:-0600
TZOFFSETTO:-0500
TZNAME:CDT
DTSTART:20230312T080000
END:DAYLIGHT
BEGIN:STANDARD
TZOFFSETFROM:-0500
TZOFFSETTO:-0600
TZNAME:CST
DTSTART:20231105T070000
END:STANDARD
BEGIN:DAYLIGHT
TZOFFSETFROM:-0600
TZOFFSETTO:-0500
TZNAME:CDT
DTSTART:20240310T080000
END:DAYLIGHT
BEGIN:STANDARD
TZOFFSETFROM:-0500
TZOFFSETTO:-0600
TZNAME:CST
DTSTART:20241103T070000
END:STANDARD
BEGIN:DAYLIGHT
TZOFFSETFROM:-0600
TZOFFSETTO:-0500
TZNAME:CDT
DTSTART:20250309T080000
END:DAYLIGHT
BEGIN:STANDARD
TZOFFSETFROM:-0500
TZOFFSETTO:-0600
TZNAME:CST
DTSTART:20251102T070000
END:STANDARD
END:VTIMEZONE
BEGIN:VEVENT
DTSTART;TZID=America/Chicago:20240608T091500
DTEND;TZID=America/Chicago:20240608T140000
DTSTAMP:20260422T080917
CREATED:20231231T223123Z
LAST-MODIFIED:20240321T014909Z
UID:10000510-1717838100-1717855200@schonesland.com
SUMMARY:Schonesland 2024 Dragoon Trail Driving Tour
DESCRIPTION:Registration ends in 3 months at June 5\, 2024 11:59 PM CDT – click here to register on MSR! \n\nJune 8th is the Annual Schonesland Club Dragoon Trail drive. \nThe Dragoon Trail follows the path of the 1st U.S. Dragoons\, cavalry soldiers who scouted Iowa in 1835 after the Black Hawk Purchase put the area under U.S. government control. The trail roughly tracks along the course of the Des Moines River from Fort Dodge through Des Moines to Knoxville and Lake Red Rock.  \nOur drive: We will depart following Cars & Coffee at Cozy Cafe\, drive to Fort Dodge where we will be having lunch at Amigo’s located at 280 N 1st St\, Fort Dodge\, IA 5050. \nDriver’s meeting @ 9:15 with the first group scheduled for an 9:30 departure.  The drive route will be posted on Ride With GPS\, and also paper copies will be available the day of the event. \nIf you have any questions about this ride please contact Dave Hill 515-657-2424 or via e-mail at dave.a.hill.jr@gmail.com \nHope to see you on the ride!!
URL:https://schonesland.com/event/dragoon-trail-driving-tour-2024/
CATEGORIES:Driving Tours
ATTACH;FMTTYPE=image/jpeg:https://schonesland.com/wp-content/uploads/2023/12/Dragoon-scaled.jpg
END:VEVENT
BEGIN:VEVENT
DTSTART;VALUE=DATE:20240621
DTEND;VALUE=DATE:20240630
DTSTAMP:20260422T080917
CREATED:20231231T221735Z
LAST-MODIFIED:20240321T014610Z
UID:10000505-1718928000-1719705599@schonesland.com
SUMMARY:Schonesland 2024 Great Western Skies Driving Tour
DESCRIPTION:Please join us from Friday\, June 21 through Saturday\, June 29 for our eight-night Great Western Skies Driving Tour! Click here to register for the event! \nThis event is open only for Schonesland Porsche Club Members. Only register if you fully intend to attend the drive as this drive is limited to ten cars. \nGeneral Tour Information \nNOTE: Only one registration by car – note the number of people but do not register separately. \nYou can review the detailed (preliminary – due to change) routes day by day on Ride with GPS at Great Western Skies Tour 2024 (ridewithgps.com)  \nDaily overview: \nWe will meet Friday Morning at the Kum & Go at 650 W Hickman in Waukee at 8:00 am for 8:30 wheel off departure after signing the Insurance Waivers etc. heading West tracing some of the Loess Hills Drive roads ending in Mitchell\, SD for the night. The second day will take us through the Badlands National Park to Rapid City\, SD with an obligatory stop at the Wall Drug (after passing about one hundred roadside advertisements for it). On Sunday we will cruise the incredible Black Hills National Forest roads and visit Mount Rushmore before returning back to Rapid city for another night. Monday will have an Encounter of the Porsche Kind at the Devils Tower. Maybe we will even see Richard Dreyfuss there – or not. From there we will continue to Sheridan\, WY for the night. Tuesday Morning we will take the drive through Big Horn National Forest on the Northern route to new heights on the Beartooth Pass at almost 11\,000 feet from where we will descend through the Chief Joseph Scenic Byway to Wyoming and drive to Cody\, WY for the night. Wednesday will take us to Gillette\, WY through the Bighorn National Forest utilizing the Southern route. On Thursday morning\, we will head to Spearfish. SD for a little break before continuing to Hot Springs\, SD where some of us might take the time to take a plunge and soak in the hot waters bubbling from the earth and some may visit the World Fossil Finder Museum. Friday we will start heading towards home and will drive to Norfolk\, NE where we will have one more evening together before heading back to Des Moines on Saturday. This is truly a drivers tour with some days quite long. Total mileage is just about 2\,400 miles. We will use Ride with GPS to navigate. Some of the National Parks we drive through and Attractions do have an entrance fee. There is a maximum of 10 cars for this event.. \nHotel Reservations instructions: \nGreat Western Skies Tour 2024 6/21- 6/29 – 8 nights (7 hotels) for Schonesland Porsche Club. YOU MUST BOOK BY 5/31/2024 – When calling ask for the Schonesland Porsche Club Group or follow the specific instructions by hotel below. We have 7 rooms with King Beds and 3 rooms with two Queen Beds reserved at each hotel. \nDay 1- Friday 6/21: \nDSM to Mitchell\, SD \nLodging: Hampton Inn Mitchell                                   $189.00 \nAddress: 1920 Highland Way\, Mitchell\, SD 57301 \nPhone: (605) 995-1575 \nCall the hotel or online reservations can made by visiting their website at https://www.hilton.com/en/hotels/mitsdhx-hampton-mitchell/ Choose the correct date (6/21-6/22). Click the Special Rates Icon and in the Group Code section\, enter SPC. The rooms available will populate for you. \nDay 2 and 3 – Saturday/Sunday 6/22 – 6/23:                  \nMitchell\, SD to Rapid City\, SD                                           \nLodging: Comfort Inn & Suites near Mt Rushmore      $209.00 \nAddress: 1720 Rapp St\, Rapid City\, SD 57701 \nPhone: (605) 503-8926 \nCall the hotel or use this link to book directly: https://bit.ly/3Ijfivt \nDay 4- Monday 6/24: \nRapid City to Devil’s Tower to Sheridan\, WY \nLodging: Hampton Inn Sheridan\, WY                           $194.52 \n980 Sibley Cir\, Sheridan\, WY 82801 \nPhone: (307) 673-2734 \nCall the hotel directly. NOTE: The hotel booked all the rooms under my name (Skip Hammerman). Call the hotel and ask them to change one of the reservations to your name and provide your credit card information. \nDay 5 – Tuesday 6/25: \nSheridan\, WY to Beartooth pass (MO) to Cody\, WY \nLodging: Hampton Inn and Suites Cody\, WY                $289.00 \n8 Southfork Rd\, Cody\, WY 82414 \nCall the Hotel directly and ask for the rooms under the Schonesland Porsche Club Group Block \nPhone: (307) 587-4505 \nDay 6 – Wednesday 6/26: \nCody\, WY to Bighorn National Forest Southern Route to Gillette\, WY \nLodging: Hampton Inn Gillette\, WY                              $139.00 \n211 Decker Ct\, Gillette\, WY 82716 \nPhone (307) 686-2000 \nCall the hotel or use this link to book directly:  https://group.hamptoninn.com/cb41sd \nDay 7 – Thursday 6/27: \nGillette\, WY to Black Hills National Forest to Hot Springs\, SD \nLodging: Springs Lodge and Café                                $119.99 \n602 Sulphur Springs St.\, Hot Springs\, SD 57747 \nPhone (605) 745-4292 \nCall the hotel directly. NOTE: The hotel booked all the rooms under my name (Skip Hammerman). Call the hotel and ask them to change one of the reservations to your name and provide your credit card information. \nDay 8 – Friday 6/28: \nHot Springs\, SD to Norfolk\, NE \nLodging: Hampton Inn Norfolk\, NE                              $179 King / $169 Queen/Queen                            \n904 South 20th Street\, Norfolk\, NE 68701 \nCall the Hotel directly and ask for the rooms under the Schonesland Porsche Club Group Block \nPhone: (402) 379-3585
URL:https://schonesland.com/event/great-western-skies-driving-tour/
CATEGORIES:Driving Tours
ATTACH;FMTTYPE=image/jpeg:https://schonesland.com/wp-content/uploads/2023/12/Great-Western-Skies.jpg
END:VEVENT
END:VCALENDAR