BEGIN:VCALENDAR
VERSION:2.0
PRODID:-//PCA Schonesland - ECPv6.15.20//NONSGML v1.0//EN
CALSCALE:GREGORIAN
METHOD:PUBLISH
X-WR-CALNAME:PCA Schonesland
X-ORIGINAL-URL:https://schonesland.com
X-WR-CALDESC:Events for PCA Schonesland
REFRESH-INTERVAL;VALUE=DURATION:PT1H
X-Robots-Tag:noindex
X-PUBLISHED-TTL:PT1H
BEGIN:VTIMEZONE
TZID:America/Chicago
BEGIN:DAYLIGHT
TZOFFSETFROM:-0600
TZOFFSETTO:-0500
TZNAME:CDT
DTSTART:20240310T080000
END:DAYLIGHT
BEGIN:STANDARD
TZOFFSETFROM:-0500
TZOFFSETTO:-0600
TZNAME:CST
DTSTART:20241103T070000
END:STANDARD
BEGIN:DAYLIGHT
TZOFFSETFROM:-0600
TZOFFSETTO:-0500
TZNAME:CDT
DTSTART:20250309T080000
END:DAYLIGHT
BEGIN:STANDARD
TZOFFSETFROM:-0500
TZOFFSETTO:-0600
TZNAME:CST
DTSTART:20251102T070000
END:STANDARD
BEGIN:DAYLIGHT
TZOFFSETFROM:-0600
TZOFFSETTO:-0500
TZNAME:CDT
DTSTART:20260308T080000
END:DAYLIGHT
BEGIN:STANDARD
TZOFFSETFROM:-0500
TZOFFSETTO:-0600
TZNAME:CST
DTSTART:20261101T070000
END:STANDARD
END:VTIMEZONE
BEGIN:VEVENT
DTSTART;TZID=America/Chicago:20250503T073000
DTEND;TZID=America/Chicago:20250504T090000
DTSTAMP:20260421T111728
CREATED:20250124T023654Z
LAST-MODIFIED:20250311T230741Z
UID:10000607-1746257400-1746349200@schonesland.com
SUMMARY:Schonesland 2025 Loess Hills Run
DESCRIPTION:Please arrive at the Hotel Renovo lobby with a full tank of gas by 7:30 am. Additionally\, there is a maximum of twenty cars for this tour. \nSchoneslanders have been driving the Loess Hills Scenic Byway since 2009.  It’s long been one of our most popular trips. Why\, you ask?  Because the roads are just so damn good!  These scenic\, thrilling roads are only two hours from Central Iowa via Highway 44\, which itself is loaded with sweeping curves and majestic vistas.  This is one day of total bliss behind the wheel of your Porsche that will have you feeling exhilarated as you arrive in Sioux City\, just in time to watch the Kentucky Derby with your Schonesland friends. \nThe big change to this year’s plan is a new location for lodging and dinner. The Warrior Hotel in downtown Sioux City is a historic grand hotel that has been restored to its legendary Art Deco interior with luxurious finishes throughout.  Click on the link to see photos of this fabulous property. There is a block of 20 rooms at a fantastic rate of only $149 per night-you’ll see that’s a bargain when you see your room. Hotel reservations can be made by clicking on this this link. \nWe will have cocktails and dinner in the majestic Woodbury dining room.  After dinner\, you can party in the main bar or venture 12 stories above to the rooftop bar\, with beautiful views of the city and the Missouri River. The dinner cost of $60 per person (inclusive of gratuity and tax) will be collected at the time of the registration. \nYou may return to Central Iowa any way you choose\, but most drive the Scenic Byway back home since it’s mostly deserted on Sunday mornings.  Once back on Highway 44\, many choose to stop and have brunch in Harlan at a fabulous farm-to-table restaurant\, Milk and Honey. \nRegistration for the Loess Hills Run is now open. Click the MSR image at the top to get started!
URL:https://schonesland.com/event/schonesland-2025-loess-hills-run/
LOCATION:Hotel Renovo Urbandale\, 11167 Hickman Rd\, Urbandale\, IA\, 50322\, United States
CATEGORIES:Driving Tours
ATTACH;FMTTYPE=image/jpeg:https://schonesland.com/wp-content/uploads/2025/01/Loess-2025-Cover-photo-scaled.jpg
END:VEVENT
BEGIN:VEVENT
DTSTART;TZID=America/Chicago:20250517T074500
DTEND;TZID=America/Chicago:20250518T130000
DTSTAMP:20260421T111728
CREATED:20250124T023837Z
LAST-MODIFIED:20250311T091751Z
UID:10000608-1747467900-1747573200@schonesland.com
SUMMARY:Schonesland 2025 Drive to Nauvoo
DESCRIPTION:Drive to Nauvoo Itinerary for Saturday May 17 – Sunday May 18\, 2025: \nThis event is open only to the Schonesland Porsche Cub members. Registration limited to a maximum of 24 cars. Note: This drive will utilize the Ride with GPS app for turn-by-turn voice navigation in lieu of printed instructions. \n  \nDay 1 \nMain Attractions: Scenic Mississippi River vistas • Nauvoo Temple • Great River Bridge \nEvent Start: Driver meeting @ 7:45 AM\, depart at 8:30 AM at Kwik Star\, 2030 21st St NW\, Altoona\, IA 50009 \nMorning Rest Break: Casey’s General Store\, 1117 S Clinton St\, Albia\, IA 52531 \nLunch Stop: Riverbend Pizza and Steakhouse 603 1st St\, Keosauqua\, IA 52565 (319-293-9900) \nAfternoon Rest Break: Casey’s General Store\, 326 Main St\, Keokuk\, IA 52632 \nHotel: Hampton Inn Burlington 3001 Winegard Dr Suite 130\, Burlington\, IA 52601 (319-237-0700). Our group room rate $169 (protected until May 4th)\, and includes breakfast. Hotel standard cancellation policies apply. Click here for direct booking at our reduced rate. \nDinner: Martini’s Grill (5 minute drive from Hampton Inn) 610 North 4th Street\, Suite 400\, Burlington\, Iowa 52601 (319-752-6262). Cash bar starting at 6:00pm with dinner at 7:00pm. Dinner selection must be made and paid at time of registration. \n  \nDay 2 \nMain Attractions: • Snake Alley • Scenic Mississippi River overlook • Scenic Mississippi River vistas \nEvent Start: Driver meeting @ 8:00 AM\, depart at 8:30 AM in the hotel parking lot \nMorning Rest Break: Casey’s General Store\, 4701 US-61\, Muscatine\, IA 52761 \nLunch Stop and End of Drive: Riverside Casino\, Golf Resort & Hotel\, 22nd & Vine Restaurant 3184 Hwy 22\, Riverside\, IA 52327 (319-648-1234) \nParking: Once on property\, we will plan to group park opposite the large “R” on the side of the building west of the main entrance. Use the entrance under the “R” and proceed directly to 22nd and Vine. The drive ends following lunch and you may return home on a route of your choosing. \nPlease contact Jim Baker 515-333-3737 or at ibakejr@me.com with any questions. \nRegistration for the Drive to Nauvoo is now open. Click the MSR image at the top to get started!
URL:https://schonesland.com/event/schonesland-2025-drive-to-nauvoo/
LOCATION:Kwik Star Altoona\, 2030 21st St NW\, Altoona\, IA\, 50009\, United States
CATEGORIES:Driving Tours
ATTACH;FMTTYPE=image/jpeg:https://schonesland.com/wp-content/uploads/2025/01/Nauvoo-2025-Cover-Photo-1-scaled.jpg
END:VEVENT
END:VCALENDAR