BEGIN:VCALENDAR
VERSION:2.0
PRODID:-//PCA Schonesland - ECPv6.15.20//NONSGML v1.0//EN
CALSCALE:GREGORIAN
METHOD:PUBLISH
X-WR-CALNAME:PCA Schonesland
X-ORIGINAL-URL:https://schonesland.com
X-WR-CALDESC:Events for PCA Schonesland
REFRESH-INTERVAL;VALUE=DURATION:PT1H
X-Robots-Tag:noindex
X-PUBLISHED-TTL:PT1H
BEGIN:VTIMEZONE
TZID:America/Chicago
BEGIN:DAYLIGHT
TZOFFSETFROM:-0600
TZOFFSETTO:-0500
TZNAME:CDT
DTSTART:20250309T080000
END:DAYLIGHT
BEGIN:STANDARD
TZOFFSETFROM:-0500
TZOFFSETTO:-0600
TZNAME:CST
DTSTART:20251102T070000
END:STANDARD
BEGIN:DAYLIGHT
TZOFFSETFROM:-0600
TZOFFSETTO:-0500
TZNAME:CDT
DTSTART:20260308T080000
END:DAYLIGHT
BEGIN:STANDARD
TZOFFSETFROM:-0500
TZOFFSETTO:-0600
TZNAME:CST
DTSTART:20261101T070000
END:STANDARD
BEGIN:DAYLIGHT
TZOFFSETFROM:-0600
TZOFFSETTO:-0500
TZNAME:CDT
DTSTART:20270314T080000
END:DAYLIGHT
BEGIN:STANDARD
TZOFFSETFROM:-0500
TZOFFSETTO:-0600
TZNAME:CST
DTSTART:20271107T070000
END:STANDARD
END:VTIMEZONE
BEGIN:VEVENT
DTSTART;TZID=America/Chicago:20261008T093000
DTEND;TZID=America/Chicago:20261011T100000
DTSTAMP:20260421T130133
CREATED:20260225T011811Z
LAST-MODIFIED:20260301T003704Z
UID:10000743-1791451800-1791712800@schonesland.com
SUMMARY:Schonesland 2026 Wisconsin Drive
DESCRIPTION:This drive is limited to Schonesland Porsche Club members only\, and a total of 26 cars. \nThis is a Fall driving tour in parts of Wisconsin and Minnesota. This is a three-night event with one night in Prairie du Chien followed by two nights in Onalaska (La Crosse). If you are unable to start the tour on Thursday mid-morning\, you can join the group on Thursday night in Prairie du Chien or in Onalaska on Friday night\, but you would miss some truly phenomenal roads and a wonderful time with your fellow Schoneslanders. \nThe PCA event formally starts Thursday 10/8 at 9:30 am at Maverik located at 3015 Oxbow Ct. SW\, Bondurant\, IA 50035\, with a lunch stop in Grundy Center at the Pancho Villa Mexican Restaurant followed by an afternoon break at Pedretti’s Bakery in Elkader. We will then continue the drive to Prairie du Chien with a scenic stop at the Pikes Peak State Park Pikes Peak State Park followed with dinner at the wonderful Angie’s Black Angus restaurant where we have enjoyed great food and service for the many past years during the Wisconsin Fall drive. We will stay on Thursday night 10/8 at the River District hotel where we have a block of rooms at a rate of $149.90. Please make your reservation by calling the hotel at 608-326-7878 and ask for the rooms under the Schonesland Porsche Club room block.  \nOn Friday morning we will take the roads towards La Crosse. We will have lunch in Camp Douglas at the Almost Home Bar and Grill as before and then continue to Onalaska for our two-night stay (Friday 10/9 and Saturday 10/10)  at the Hampton Inn. King Bedrooms are $159 and ones with two Queen Beds are $169. Please make your reservation by calling the hotel at 608-779-5000 or better yet using this direct link to our room block: Hampton Inn LaCrosse/Onalaska. On Saturday we have planned a great drive following the Mississippi River on the Minnesota side to Winona before crossing over to Wisconsin. We will drive through the fantastic curves and elevations in Wildcat Mountain State Park before enjoying lunch at the Rockton Bar in La Farge. Friday and Saturday nights we will have dinner in two groups at Ciatti’s Italian Grill and at Manny’s Cocina swapping locations the second night. Both restaurants are across the parking lot from our hotel. \nThe PCA sanctioned drive ends on Saturday and return on Sunday is not part of the formal event as everyone can return home to Des Moines on their own whether driving alone or in groups. \n  \n\n\n\n\n\nEvent requirements\n\nThis event is classified as a “driving tour” and will be conducted in accordance with the Porsche Club of America’s Driving Tour Standards. We will be using Ride with GPS phone app for navigation. If you have not downloaded the app on your phone\, please follow this link to do so and review the guides we have developed for the users. To register\, click the MSR image at the top of this page! \nhttps://schonesland.com/driving-tour-app/ \nIf you have any questions\, please contact Skip Hammerman at 515-419-8734 or Ben Nordman at 612-910-1699.
URL:https://schonesland.com/event/schonesland-2026-wisconsin-drive/
LOCATION:Maverik Bondurant\, 3015 Oxbow Ct SW\, Bondurant\, IA\, 50035\, United States
CATEGORIES:Driving Tours
ATTACH;FMTTYPE=image/png:https://schonesland.com/wp-content/uploads/2026/02/wisconsin.png
END:VEVENT
END:VCALENDAR