BEGIN:VCALENDAR
VERSION:2.0
PRODID:-//PCA Schonesland - ECPv6.15.20//NONSGML v1.0//EN
CALSCALE:GREGORIAN
METHOD:PUBLISH
X-WR-CALNAME:PCA Schonesland
X-ORIGINAL-URL:https://schonesland.com
X-WR-CALDESC:Events for PCA Schonesland
REFRESH-INTERVAL;VALUE=DURATION:PT1H
X-Robots-Tag:noindex
X-PUBLISHED-TTL:PT1H
BEGIN:VTIMEZONE
TZID:America/Chicago
BEGIN:DAYLIGHT
TZOFFSETFROM:-0600
TZOFFSETTO:-0500
TZNAME:CDT
DTSTART:20230312T080000
END:DAYLIGHT
BEGIN:STANDARD
TZOFFSETFROM:-0500
TZOFFSETTO:-0600
TZNAME:CST
DTSTART:20231105T070000
END:STANDARD
BEGIN:DAYLIGHT
TZOFFSETFROM:-0600
TZOFFSETTO:-0500
TZNAME:CDT
DTSTART:20240310T080000
END:DAYLIGHT
BEGIN:STANDARD
TZOFFSETFROM:-0500
TZOFFSETTO:-0600
TZNAME:CST
DTSTART:20241103T070000
END:STANDARD
BEGIN:DAYLIGHT
TZOFFSETFROM:-0600
TZOFFSETTO:-0500
TZNAME:CDT
DTSTART:20250309T080000
END:DAYLIGHT
BEGIN:STANDARD
TZOFFSETFROM:-0500
TZOFFSETTO:-0600
TZNAME:CST
DTSTART:20251102T070000
END:STANDARD
BEGIN:DAYLIGHT
TZOFFSETFROM:-0600
TZOFFSETTO:-0500
TZNAME:CDT
DTSTART:20260308T080000
END:DAYLIGHT
BEGIN:STANDARD
TZOFFSETFROM:-0500
TZOFFSETTO:-0600
TZNAME:CST
DTSTART:20261101T070000
END:STANDARD
BEGIN:DAYLIGHT
TZOFFSETFROM:-0600
TZOFFSETTO:-0500
TZNAME:CDT
DTSTART:20270314T080000
END:DAYLIGHT
BEGIN:STANDARD
TZOFFSETFROM:-0500
TZOFFSETTO:-0600
TZNAME:CST
DTSTART:20271107T070000
END:STANDARD
END:VTIMEZONE
BEGIN:VEVENT
DTSTART;TZID=America/Chicago:20260331T183000
DTEND;TZID=America/Chicago:20260331T200000
DTSTAMP:20260421T035136
CREATED:20250826T200224Z
LAST-MODIFIED:20250826T200224Z
UID:10000642-1774981800-1774987200@schonesland.com
SUMMARY:PCA Schonesland Monthly Board Meeting
DESCRIPTION:The Board of PCA Schonesland meets on the last Tuesday of every month to discuss previous business\, recap recent events\, and thoughtfully plan for the future. These meetings are open to all members and can be accessed via this Zoom link.
URL:https://schonesland.com/event/pca-schonesland-monthly-board-meeting/2026-03-31/
LOCATION:IA
CATEGORIES:Schonesland Administration
ATTACH;FMTTYPE=image/png:https://schonesland.com/wp-content/uploads/2024/07/board_meeting.png
END:VEVENT
BEGIN:VEVENT
DTSTART;TZID=America/Chicago:20260224T183000
DTEND;TZID=America/Chicago:20260224T200000
DTSTAMP:20260421T035136
CREATED:20250826T200224Z
LAST-MODIFIED:20250826T200224Z
UID:10000641-1771957800-1771963200@schonesland.com
SUMMARY:PCA Schonesland Monthly Board Meeting
DESCRIPTION:The Board of PCA Schonesland meets on the last Tuesday of every month to discuss previous business\, recap recent events\, and thoughtfully plan for the future. These meetings are open to all members and can be accessed via this Zoom link.
URL:https://schonesland.com/event/pca-schonesland-monthly-board-meeting/2026-02-24/
LOCATION:IA
CATEGORIES:Schonesland Administration
ATTACH;FMTTYPE=image/png:https://schonesland.com/wp-content/uploads/2024/07/board_meeting.png
END:VEVENT
BEGIN:VEVENT
DTSTART;TZID=America/Chicago:20260127T183000
DTEND;TZID=America/Chicago:20260127T200000
DTSTAMP:20260421T035136
CREATED:20250826T200224Z
LAST-MODIFIED:20250826T200224Z
UID:10000640-1769538600-1769544000@schonesland.com
SUMMARY:PCA Schonesland Monthly Board Meeting
DESCRIPTION:The Board of PCA Schonesland meets on the last Tuesday of every month to discuss previous business\, recap recent events\, and thoughtfully plan for the future. These meetings are open to all members and can be accessed via this Zoom link.
URL:https://schonesland.com/event/pca-schonesland-monthly-board-meeting/2026-01-27/
LOCATION:IA
CATEGORIES:Schonesland Administration
ATTACH;FMTTYPE=image/png:https://schonesland.com/wp-content/uploads/2024/07/board_meeting.png
END:VEVENT
BEGIN:VEVENT
DTSTART;TZID=America/Chicago:20251230T183000
DTEND;TZID=America/Chicago:20251230T200000
DTSTAMP:20260421T035136
CREATED:20250826T200224Z
LAST-MODIFIED:20250826T200224Z
UID:10000722-1767119400-1767124800@schonesland.com
SUMMARY:PCA Schonesland Monthly Board Meeting
DESCRIPTION:The Board of PCA Schonesland meets on the last Tuesday of every month to discuss previous business\, recap recent events\, and thoughtfully plan for the future. These meetings are open to all members and can be accessed via this Zoom link.
URL:https://schonesland.com/event/pca-schonesland-monthly-board-meeting/2025-12-30/
LOCATION:IA
CATEGORIES:Schonesland Administration
ATTACH;FMTTYPE=image/png:https://schonesland.com/wp-content/uploads/2024/07/board_meeting.png
END:VEVENT
BEGIN:VEVENT
DTSTART;TZID=America/Chicago:20251213T100000
DTEND;TZID=America/Chicago:20251213T120000
DTSTAMP:20260421T035136
CREATED:20251028T212618Z
LAST-MODIFIED:20251213T050834Z
UID:10000639-1765620000-1765627200@schonesland.com
SUMMARY:PCA Schonesland 2026 Annual Planning Meeting
DESCRIPTION:Every year the PCA Schonesland Board meets to plan for the next year. We will be meeting this year at the Urbandale Public Library at 10:00 following Cars & Coffee. Planning is open to all members – please feel free to join\, sharing your ideas and where you want to help!
URL:https://schonesland.com/event/pca-schonesland-2026-annual-planning/
LOCATION:Urbandale Public Library\, 3520 86th St\, Urbandale\, IA\, 50322\, United States
CATEGORIES:Schonesland Administration
ATTACH;FMTTYPE=image/png:https://schonesland.com/wp-content/uploads/2024/07/board_meeting.png
END:VEVENT
BEGIN:VEVENT
DTSTART;TZID=America/Chicago:20251125T183000
DTEND;TZID=America/Chicago:20251125T200000
DTSTAMP:20260421T035136
CREATED:20250826T200224Z
LAST-MODIFIED:20250826T200224Z
UID:10000638-1764095400-1764100800@schonesland.com
SUMMARY:PCA Schonesland Monthly Board Meeting
DESCRIPTION:The Board of PCA Schonesland meets on the last Tuesday of every month to discuss previous business\, recap recent events\, and thoughtfully plan for the future. These meetings are open to all members and can be accessed via this Zoom link.
URL:https://schonesland.com/event/pca-schonesland-monthly-board-meeting/2025-11-25/
LOCATION:IA
CATEGORIES:Schonesland Administration
ATTACH;FMTTYPE=image/png:https://schonesland.com/wp-content/uploads/2024/07/board_meeting.png
END:VEVENT
BEGIN:VEVENT
DTSTART;TZID=America/Chicago:20251028T190000
DTEND;TZID=America/Chicago:20251028T203000
DTSTAMP:20260421T035136
CREATED:20251028T211959Z
LAST-MODIFIED:20251028T212000Z
UID:10000637-1761678000-1761683400@schonesland.com
SUMMARY:PCA Schonesland Monthly Board Meeting
DESCRIPTION:The Board of PCA Schonesland meets on the last Tuesday of every month to discuss previous business\, recap recent events\, and thoughtfully plan for the future. October’s meeting will be held in person at District 36 in Ankeny at 7:00 pm\, with optional dinner beforehand at 6:00 pm.
URL:https://schonesland.com/event/pca-schonesland-monthly-board-meeting-2/
LOCATION:District 36 Ankeny\, 1375 SW Vintage Parkway\, Ankeny\, IA\, 50023\, United States
CATEGORIES:Schonesland Administration
ATTACH;FMTTYPE=image/png:https://schonesland.com/wp-content/uploads/2024/07/board_meeting.png
END:VEVENT
BEGIN:VEVENT
DTSTART;TZID=America/Chicago:20250930T183000
DTEND;TZID=America/Chicago:20250930T200000
DTSTAMP:20260421T035136
CREATED:20250826T200224Z
LAST-MODIFIED:20250826T200224Z
UID:10000636-1759257000-1759262400@schonesland.com
SUMMARY:PCA Schonesland Monthly Board Meeting
DESCRIPTION:The Board of PCA Schonesland meets on the last Tuesday of every month to discuss previous business\, recap recent events\, and thoughtfully plan for the future. These meetings are open to all members and can be accessed via this Zoom link.
URL:https://schonesland.com/event/pca-schonesland-monthly-board-meeting/2025-09-30/
LOCATION:IA
CATEGORIES:Schonesland Administration
ATTACH;FMTTYPE=image/png:https://schonesland.com/wp-content/uploads/2024/07/board_meeting.png
END:VEVENT
BEGIN:VEVENT
DTSTART;TZID=America/Chicago:20250826T183000
DTEND;TZID=America/Chicago:20250826T200000
DTSTAMP:20260421T035136
CREATED:20250826T200224Z
LAST-MODIFIED:20250826T200224Z
UID:10000635-1756233000-1756238400@schonesland.com
SUMMARY:PCA Schonesland Monthly Board Meeting
DESCRIPTION:The Board of PCA Schonesland meets on the last Tuesday of every month to discuss previous business\, recap recent events\, and thoughtfully plan for the future. These meetings are open to all members and can be accessed via this Zoom link.
URL:https://schonesland.com/event/pca-schonesland-monthly-board-meeting/2025-08-26/
LOCATION:IA
CATEGORIES:Schonesland Administration
ATTACH;FMTTYPE=image/png:https://schonesland.com/wp-content/uploads/2024/07/board_meeting.png
END:VEVENT
BEGIN:VEVENT
DTSTART;TZID=America/Chicago:20241214T130000
DTEND;TZID=America/Chicago:20241214T160000
DTSTAMP:20260421T035136
CREATED:20240927T011955Z
LAST-MODIFIED:20240927T011955Z
UID:10000598-1734181200-1734192000@schonesland.com
SUMMARY:Schonesland Region 2025 Planning
DESCRIPTION:Annual planning will be held on Saturday\, December 14 as we map out 2025 goals and activities for the Schonesland Region. We will meet at the Urbandale Public Library at 1:00 pm in Meeting Room A. This session is open to all members; if you are interested\, please join us and help sketch out another great year for our club!
URL:https://schonesland.com/event/schonesland-region-2025-planning/
LOCATION:Urbandale Public Library\, 3520 86th St\, Urbandale\, IA\, 50322\, United States
CATEGORIES:Schonesland Administration
ATTACH;FMTTYPE=image/png:https://schonesland.com/wp-content/uploads/2024/07/board_meeting.png
END:VEVENT
END:VCALENDAR