BEGIN:VCALENDAR
VERSION:2.0
PRODID:-//PCA Schonesland - ECPv6.15.20//NONSGML v1.0//EN
CALSCALE:GREGORIAN
METHOD:PUBLISH
X-WR-CALNAME:PCA Schonesland
X-ORIGINAL-URL:https://schonesland.com
X-WR-CALDESC:Events for PCA Schonesland
REFRESH-INTERVAL;VALUE=DURATION:PT1H
X-Robots-Tag:noindex
X-PUBLISHED-TTL:PT1H
BEGIN:VTIMEZONE
TZID:America/Chicago
BEGIN:DAYLIGHT
TZOFFSETFROM:-0600
TZOFFSETTO:-0500
TZNAME:CDT
DTSTART:20250309T080000
END:DAYLIGHT
BEGIN:STANDARD
TZOFFSETFROM:-0500
TZOFFSETTO:-0600
TZNAME:CST
DTSTART:20251102T070000
END:STANDARD
BEGIN:DAYLIGHT
TZOFFSETFROM:-0600
TZOFFSETTO:-0500
TZNAME:CDT
DTSTART:20260308T080000
END:DAYLIGHT
BEGIN:STANDARD
TZOFFSETFROM:-0500
TZOFFSETTO:-0600
TZNAME:CST
DTSTART:20261101T070000
END:STANDARD
BEGIN:DAYLIGHT
TZOFFSETFROM:-0600
TZOFFSETTO:-0500
TZNAME:CDT
DTSTART:20270314T080000
END:DAYLIGHT
BEGIN:STANDARD
TZOFFSETFROM:-0500
TZOFFSETTO:-0600
TZNAME:CST
DTSTART:20271107T070000
END:STANDARD
END:VTIMEZONE
BEGIN:VEVENT
DTSTART;VALUE=DATE:20260329
DTEND;VALUE=DATE:20260403
DTSTAMP:20260420T084853
CREATED:20260301T062009Z
LAST-MODIFIED:20260301T062009Z
UID:10000767-1774742400-1775174399@schonesland.com
SUMMARY:PCA Treffen Lowcountry - Spring 2026
DESCRIPTION:Treffen – “to meet”. That is the entire concept behind the PCA Treffens: an opportunity for PCA members to meet their fellow Porsche enthusiasts in some of the most spectacular locations in North America. From the ski valleys of Tahoe and the Hill Country of Texas to the beautiful scenery of New Mexico and the mountains of Western Canada\, PCA’s Treffens provide the opportunity for members to drive some of the best roads in North America and enjoy four- to five-star hospitality at world-class hotels. \nThe Treffen North America emphasis is on the social side: meet your PCA friends\, but perhaps\, more importantly\, make new friends who enjoy the same type of exclusive experience that the Treffens provide – spectacular hotels and unique driving opportunities set in locations offering unparalleled scenery and luxury. \nPCA has put together a four-day event with an emphasis on guided tours hosted by the knowledgeable local Regions’ experts and a Navigators Day Off to allow for doing just what you want that day\, with several opportunities for different local and resort activities\, all prepared with you and your well-being in mind. After a hearty breakfast\, explore scenic driving roads like the Lake Tahoe loop road\, Hill Country’s best\, Tail of the Dragon\, Route 66 and Canada Highway 1 to destinations both beautiful and historic\, with lunches included. Return to the host hotel and enjoy a grand Happy Hour with your friends before sitting down to sumptuous meals. Treffens do not include competition\, other than how many new friends you can make and how you can enjoy your time in a unique location. \nJoin us at a future PCA Treffen. It’s time for you ‘to meet’ up with your fellow PCA enthusiasts in an environment unlike anything else you have ever experienced with PCA! Register now at the PCA Treffen site.
URL:https://schonesland.com/event/pca-treffen-spring-2026/
CATEGORIES:PCA National Events
ATTACH;FMTTYPE=image/png:https://schonesland.com/wp-content/uploads/2024/01/PCA-Logo-Small.png
END:VEVENT
BEGIN:VEVENT
DTSTART;VALUE=DATE:20260614
DTEND;VALUE=DATE:20260621
DTSTAMP:20260420T084853
CREATED:20260301T063330Z
LAST-MODIFIED:20260301T063330Z
UID:10000768-1781395200-1781999999@schonesland.com
SUMMARY:PCA Parade 2026 - Lake Placid\, NY
DESCRIPTION:The Porsche Parade is an annual event hosted by the Porsche Club of America (PCA). The 70th Porsche Parade will be held in Lake Placid\, NY\, from Sunday\, June 14\, through Saturday\, June 20\, 2026. \nThe parade is a week-long event that includes four competitive events and other activities. Events include Concours\, TSD Rally\, Autocross\, and the Technical Quiz. Other activities include banquets\, tours\, Tech Tactics sessions\, a golf tournament\, a 5K Run/Walk\, and an art show. \nPCA launched a new Parade Registration System in 2025\, which was an astounding success! This system was built specifically for PCA and Porsche Parade and allows for a more seamless registration process. We created the 2025 VIDEO GUIDE on registering using the new system\, which is a good resource for those who did not have a chance to use it in 2025. The 2026 Registration Guide is also available in the Resources section of the new registration system. \nParade Phase I Registration  \nDuring Phase I Registration\, you can register to attend Parade. Once you have successfully registered for Parade\, you will receive a confirmation email with instructions to book your housing via ConferenceDirect. Please make sure to look over the room types on the website. \nParade Phase II Registration   \nProvides registrants the ability to select banquets\, tours\, and events. \nA Step-By-Step Guide to registering for Phase II will be available after Phase I opens.   \nAll registrations will be accepted\, but be aware that some events fill quickly and then go to a “waitlist” status (If you are on a waitlist\, it will be listed on your registration summary. You will not be charged for the event while on the waitlist). \nWhen you register online\, you must pay with an American Express\, MasterCard\, VISA\, or Discover in US funds. If you cannot register online\, please email Melanie Williams at events@national.pca.org to schedule a time to complete your registration. \nAll fees paid will be recorded and deposited at the time of registration. Parade registrations are not transferable. Please make sure to read the Parade Registration Cancellation Policy below. \nPhase I Registration opens on Wednesday\, January 28th\, 2026\, at 12:00 PM ET.  \nPhase II Registration opens Wednesday\, April 15th\, 2026\, at 12:00 PM ET. \nThere is no onsite registration during Parade; advance registration is mandatory
URL:https://schonesland.com/event/pca-parade-2026/
CATEGORIES:PCA National Events
ATTACH;FMTTYPE=image/png:https://schonesland.com/wp-content/uploads/2024/01/PCA-Logo-Small.png
END:VEVENT
END:VCALENDAR