BEGIN:VCALENDAR
VERSION:2.0
PRODID:-//PCA Schonesland - ECPv6.15.20//NONSGML v1.0//EN
CALSCALE:GREGORIAN
METHOD:PUBLISH
X-WR-CALNAME:PCA Schonesland
X-ORIGINAL-URL:https://schonesland.com
X-WR-CALDESC:Events for PCA Schonesland
REFRESH-INTERVAL;VALUE=DURATION:PT1H
X-Robots-Tag:noindex
X-PUBLISHED-TTL:PT1H
BEGIN:VTIMEZONE
TZID:America/Chicago
BEGIN:DAYLIGHT
TZOFFSETFROM:-0600
TZOFFSETTO:-0500
TZNAME:CDT
DTSTART:20270314T080000
END:DAYLIGHT
BEGIN:STANDARD
TZOFFSETFROM:-0500
TZOFFSETTO:-0600
TZNAME:CST
DTSTART:20271107T070000
END:STANDARD
BEGIN:DAYLIGHT
TZOFFSETFROM:-0600
TZOFFSETTO:-0500
TZNAME:CDT
DTSTART:20280312T080000
END:DAYLIGHT
BEGIN:STANDARD
TZOFFSETFROM:-0500
TZOFFSETTO:-0600
TZNAME:CST
DTSTART:20281105T070000
END:STANDARD
BEGIN:DAYLIGHT
TZOFFSETFROM:-0600
TZOFFSETTO:-0500
TZNAME:CDT
DTSTART:20290311T080000
END:DAYLIGHT
BEGIN:STANDARD
TZOFFSETFROM:-0500
TZOFFSETTO:-0600
TZNAME:CST
DTSTART:20291104T070000
END:STANDARD
BEGIN:DAYLIGHT
TZOFFSETFROM:-0600
TZOFFSETTO:-0500
TZNAME:CDT
DTSTART:20300310T080000
END:DAYLIGHT
BEGIN:STANDARD
TZOFFSETFROM:-0500
TZOFFSETTO:-0600
TZNAME:CST
DTSTART:20301103T070000
END:STANDARD
BEGIN:DAYLIGHT
TZOFFSETFROM:-0600
TZOFFSETTO:-0500
TZNAME:CDT
DTSTART:20310309T080000
END:DAYLIGHT
BEGIN:STANDARD
TZOFFSETFROM:-0500
TZOFFSETTO:-0600
TZNAME:CST
DTSTART:20311102T070000
END:STANDARD
END:VTIMEZONE
BEGIN:VEVENT
DTSTART;TZID=America/Chicago:20281219T183000
DTEND;TZID=America/Chicago:20281219T203000
DTSTAMP:20260421T111828
CREATED:20231231T162935Z
LAST-MODIFIED:20231231T163319Z
UID:10000441-1860863400-1860870600@schonesland.com
SUMMARY:Drive and Dine - Location TBA
DESCRIPTION:Join us on the third Tuesday of every month at 6:30 pm for great food and great conversation in celebration of great cars! \nThe location for this month is still TBA – venues are typically confirmed and communicated 6 – 8 weeks prior.
URL:https://schonesland.com/event/drive-and-dine-location-tba/2028-12-19/
LOCATION:IA
CATEGORIES:Social Events
ATTACH;FMTTYPE=image/png:https://schonesland.com/wp-content/uploads/2023/04/drive-and-dine.png
END:VEVENT
BEGIN:VEVENT
DTSTART;TZID=America/Chicago:20290113T080000
DTEND;TZID=America/Chicago:20290113T100000
DTSTAMP:20260421T111828
CREATED:20231231T163257Z
LAST-MODIFIED:20231231T163355Z
UID:10000697-1862985600-1862992800@schonesland.com
SUMMARY:Cars and Coffee – Cozy Cafe\, Johnston
DESCRIPTION:Join us the 2nd Saturday of every month at 8:00 am for coffee\, breakfast\, and perhaps a conversation or two about cars!
URL:https://schonesland.com/event/cars-and-coffee-cozy-cafe-johnston/2029-01-13/
LOCATION:Cozy Cafe Johnston\, 8385 Birchwood Ct\, Johnston\, IA\, 50131\, United States
CATEGORIES:Social Events
ATTACH;FMTTYPE=image/png:https://schonesland.com/wp-content/uploads/2023/03/cars-and-coffee.png
END:VEVENT
BEGIN:VEVENT
DTSTART;TZID=America/Chicago:20290116T183000
DTEND;TZID=America/Chicago:20290116T203000
DTSTAMP:20260421T111828
CREATED:20231231T162935Z
LAST-MODIFIED:20231231T163319Z
UID:10000516-1863282600-1863289800@schonesland.com
SUMMARY:Drive and Dine - Location TBA
DESCRIPTION:Join us on the third Tuesday of every month at 6:30 pm for great food and great conversation in celebration of great cars! \nThe location for this month is still TBA – venues are typically confirmed and communicated 6 – 8 weeks prior.
URL:https://schonesland.com/event/drive-and-dine-location-tba/2029-01-16/
LOCATION:IA
CATEGORIES:Social Events
ATTACH;FMTTYPE=image/png:https://schonesland.com/wp-content/uploads/2023/04/drive-and-dine.png
END:VEVENT
BEGIN:VEVENT
DTSTART;TZID=America/Chicago:20290210T080000
DTEND;TZID=America/Chicago:20290210T100000
DTSTAMP:20260421T111828
CREATED:20231231T163257Z
LAST-MODIFIED:20231231T163355Z
UID:10000698-1865404800-1865412000@schonesland.com
SUMMARY:Cars and Coffee – Cozy Cafe\, Johnston
DESCRIPTION:Join us the 2nd Saturday of every month at 8:00 am for coffee\, breakfast\, and perhaps a conversation or two about cars!
URL:https://schonesland.com/event/cars-and-coffee-cozy-cafe-johnston/2029-02-10/
LOCATION:Cozy Cafe Johnston\, 8385 Birchwood Ct\, Johnston\, IA\, 50131\, United States
CATEGORIES:Social Events
ATTACH;FMTTYPE=image/png:https://schonesland.com/wp-content/uploads/2023/03/cars-and-coffee.png
END:VEVENT
BEGIN:VEVENT
DTSTART;TZID=America/Chicago:20290220T183000
DTEND;TZID=America/Chicago:20290220T203000
DTSTAMP:20260421T111828
CREATED:20231231T162935Z
LAST-MODIFIED:20231231T163319Z
UID:10000532-1866306600-1866313800@schonesland.com
SUMMARY:Drive and Dine - Location TBA
DESCRIPTION:Join us on the third Tuesday of every month at 6:30 pm for great food and great conversation in celebration of great cars! \nThe location for this month is still TBA – venues are typically confirmed and communicated 6 – 8 weeks prior.
URL:https://schonesland.com/event/drive-and-dine-location-tba/2029-02-20/
LOCATION:IA
CATEGORIES:Social Events
ATTACH;FMTTYPE=image/png:https://schonesland.com/wp-content/uploads/2023/04/drive-and-dine.png
END:VEVENT
BEGIN:VEVENT
DTSTART;TZID=America/Chicago:20290310T080000
DTEND;TZID=America/Chicago:20290310T100000
DTSTAMP:20260421T111828
CREATED:20231231T163257Z
LAST-MODIFIED:20231231T163355Z
UID:10000699-1867824000-1867831200@schonesland.com
SUMMARY:Cars and Coffee – Cozy Cafe\, Johnston
DESCRIPTION:Join us the 2nd Saturday of every month at 8:00 am for coffee\, breakfast\, and perhaps a conversation or two about cars!
URL:https://schonesland.com/event/cars-and-coffee-cozy-cafe-johnston/2029-03-10/
LOCATION:Cozy Cafe Johnston\, 8385 Birchwood Ct\, Johnston\, IA\, 50131\, United States
CATEGORIES:Social Events
ATTACH;FMTTYPE=image/png:https://schonesland.com/wp-content/uploads/2023/03/cars-and-coffee.png
END:VEVENT
BEGIN:VEVENT
DTSTART;TZID=America/Chicago:20290320T183000
DTEND;TZID=America/Chicago:20290320T203000
DTSTAMP:20260421T111828
CREATED:20231231T162935Z
LAST-MODIFIED:20231231T163319Z
UID:10000533-1868725800-1868733000@schonesland.com
SUMMARY:Drive and Dine - Location TBA
DESCRIPTION:Join us on the third Tuesday of every month at 6:30 pm for great food and great conversation in celebration of great cars! \nThe location for this month is still TBA – venues are typically confirmed and communicated 6 – 8 weeks prior.
URL:https://schonesland.com/event/drive-and-dine-location-tba/2029-03-20/
LOCATION:IA
CATEGORIES:Social Events
ATTACH;FMTTYPE=image/png:https://schonesland.com/wp-content/uploads/2023/04/drive-and-dine.png
END:VEVENT
BEGIN:VEVENT
DTSTART;TZID=America/Chicago:20290414T080000
DTEND;TZID=America/Chicago:20290414T100000
DTSTAMP:20260421T111828
CREATED:20231231T163257Z
LAST-MODIFIED:20231231T163355Z
UID:10000700-1870848000-1870855200@schonesland.com
SUMMARY:Cars and Coffee – Cozy Cafe\, Johnston
DESCRIPTION:Join us the 2nd Saturday of every month at 8:00 am for coffee\, breakfast\, and perhaps a conversation or two about cars!
URL:https://schonesland.com/event/cars-and-coffee-cozy-cafe-johnston/2029-04-14/
LOCATION:Cozy Cafe Johnston\, 8385 Birchwood Ct\, Johnston\, IA\, 50131\, United States
CATEGORIES:Social Events
ATTACH;FMTTYPE=image/png:https://schonesland.com/wp-content/uploads/2023/03/cars-and-coffee.png
END:VEVENT
BEGIN:VEVENT
DTSTART;TZID=America/Chicago:20290417T183000
DTEND;TZID=America/Chicago:20290417T203000
DTSTAMP:20260421T111828
CREATED:20231231T162935Z
LAST-MODIFIED:20231231T163319Z
UID:10000534-1871145000-1871152200@schonesland.com
SUMMARY:Drive and Dine - Location TBA
DESCRIPTION:Join us on the third Tuesday of every month at 6:30 pm for great food and great conversation in celebration of great cars! \nThe location for this month is still TBA – venues are typically confirmed and communicated 6 – 8 weeks prior.
URL:https://schonesland.com/event/drive-and-dine-location-tba/2029-04-17/
LOCATION:IA
CATEGORIES:Social Events
ATTACH;FMTTYPE=image/png:https://schonesland.com/wp-content/uploads/2023/04/drive-and-dine.png
END:VEVENT
BEGIN:VEVENT
DTSTART;TZID=America/Chicago:20290512T080000
DTEND;TZID=America/Chicago:20290512T100000
DTSTAMP:20260421T111828
CREATED:20231231T163257Z
LAST-MODIFIED:20231231T163355Z
UID:10000701-1873267200-1873274400@schonesland.com
SUMMARY:Cars and Coffee – Cozy Cafe\, Johnston
DESCRIPTION:Join us the 2nd Saturday of every month at 8:00 am for coffee\, breakfast\, and perhaps a conversation or two about cars!
URL:https://schonesland.com/event/cars-and-coffee-cozy-cafe-johnston/2029-05-12/
LOCATION:Cozy Cafe Johnston\, 8385 Birchwood Ct\, Johnston\, IA\, 50131\, United States
CATEGORIES:Social Events
ATTACH;FMTTYPE=image/png:https://schonesland.com/wp-content/uploads/2023/03/cars-and-coffee.png
END:VEVENT
BEGIN:VEVENT
DTSTART;TZID=America/Chicago:20290515T183000
DTEND;TZID=America/Chicago:20290515T203000
DTSTAMP:20260421T111828
CREATED:20231231T162935Z
LAST-MODIFIED:20231231T163319Z
UID:10000592-1873564200-1873571400@schonesland.com
SUMMARY:Drive and Dine - Location TBA
DESCRIPTION:Join us on the third Tuesday of every month at 6:30 pm for great food and great conversation in celebration of great cars! \nThe location for this month is still TBA – venues are typically confirmed and communicated 6 – 8 weeks prior.
URL:https://schonesland.com/event/drive-and-dine-location-tba/2029-05-15/
LOCATION:IA
CATEGORIES:Social Events
ATTACH;FMTTYPE=image/png:https://schonesland.com/wp-content/uploads/2023/04/drive-and-dine.png
END:VEVENT
BEGIN:VEVENT
DTSTART;TZID=America/Chicago:20290609T080000
DTEND;TZID=America/Chicago:20290609T100000
DTSTAMP:20260421T111828
CREATED:20231231T163257Z
LAST-MODIFIED:20231231T163355Z
UID:10000702-1875686400-1875693600@schonesland.com
SUMMARY:Cars and Coffee – Cozy Cafe\, Johnston
DESCRIPTION:Join us the 2nd Saturday of every month at 8:00 am for coffee\, breakfast\, and perhaps a conversation or two about cars!
URL:https://schonesland.com/event/cars-and-coffee-cozy-cafe-johnston/2029-06-09/
LOCATION:Cozy Cafe Johnston\, 8385 Birchwood Ct\, Johnston\, IA\, 50131\, United States
CATEGORIES:Social Events
ATTACH;FMTTYPE=image/png:https://schonesland.com/wp-content/uploads/2023/03/cars-and-coffee.png
END:VEVENT
BEGIN:VEVENT
DTSTART;TZID=America/Chicago:20290619T183000
DTEND;TZID=America/Chicago:20290619T203000
DTSTAMP:20260421T111828
CREATED:20231231T162935Z
LAST-MODIFIED:20231231T163319Z
UID:10000593-1876588200-1876595400@schonesland.com
SUMMARY:Drive and Dine - Location TBA
DESCRIPTION:Join us on the third Tuesday of every month at 6:30 pm for great food and great conversation in celebration of great cars! \nThe location for this month is still TBA – venues are typically confirmed and communicated 6 – 8 weeks prior.
URL:https://schonesland.com/event/drive-and-dine-location-tba/2029-06-19/
LOCATION:IA
CATEGORIES:Social Events
ATTACH;FMTTYPE=image/png:https://schonesland.com/wp-content/uploads/2023/04/drive-and-dine.png
END:VEVENT
BEGIN:VEVENT
DTSTART;TZID=America/Chicago:20290714T080000
DTEND;TZID=America/Chicago:20290714T100000
DTSTAMP:20260421T111828
CREATED:20231231T163257Z
LAST-MODIFIED:20231231T163355Z
UID:10000703-1878710400-1878717600@schonesland.com
SUMMARY:Cars and Coffee – Cozy Cafe\, Johnston
DESCRIPTION:Join us the 2nd Saturday of every month at 8:00 am for coffee\, breakfast\, and perhaps a conversation or two about cars!
URL:https://schonesland.com/event/cars-and-coffee-cozy-cafe-johnston/2029-07-14/
LOCATION:Cozy Cafe Johnston\, 8385 Birchwood Ct\, Johnston\, IA\, 50131\, United States
CATEGORIES:Social Events
ATTACH;FMTTYPE=image/png:https://schonesland.com/wp-content/uploads/2023/03/cars-and-coffee.png
END:VEVENT
BEGIN:VEVENT
DTSTART;TZID=America/Chicago:20290717T183000
DTEND;TZID=America/Chicago:20290717T203000
DTSTAMP:20260421T111828
CREATED:20231231T162935Z
LAST-MODIFIED:20231231T163319Z
UID:10000594-1879007400-1879014600@schonesland.com
SUMMARY:Drive and Dine - Location TBA
DESCRIPTION:Join us on the third Tuesday of every month at 6:30 pm for great food and great conversation in celebration of great cars! \nThe location for this month is still TBA – venues are typically confirmed and communicated 6 – 8 weeks prior.
URL:https://schonesland.com/event/drive-and-dine-location-tba/2029-07-17/
LOCATION:IA
CATEGORIES:Social Events
ATTACH;FMTTYPE=image/png:https://schonesland.com/wp-content/uploads/2023/04/drive-and-dine.png
END:VEVENT
BEGIN:VEVENT
DTSTART;TZID=America/Chicago:20290811T080000
DTEND;TZID=America/Chicago:20290811T100000
DTSTAMP:20260421T111828
CREATED:20231231T163257Z
LAST-MODIFIED:20231231T163355Z
UID:10000704-1881129600-1881136800@schonesland.com
SUMMARY:Cars and Coffee – Cozy Cafe\, Johnston
DESCRIPTION:Join us the 2nd Saturday of every month at 8:00 am for coffee\, breakfast\, and perhaps a conversation or two about cars!
URL:https://schonesland.com/event/cars-and-coffee-cozy-cafe-johnston/2029-08-11/
LOCATION:Cozy Cafe Johnston\, 8385 Birchwood Ct\, Johnston\, IA\, 50131\, United States
CATEGORIES:Social Events
ATTACH;FMTTYPE=image/png:https://schonesland.com/wp-content/uploads/2023/03/cars-and-coffee.png
END:VEVENT
BEGIN:VEVENT
DTSTART;TZID=America/Chicago:20290821T183000
DTEND;TZID=America/Chicago:20290821T203000
DTSTAMP:20260421T111828
CREATED:20231231T162935Z
LAST-MODIFIED:20231231T163319Z
UID:10000597-1882031400-1882038600@schonesland.com
SUMMARY:Drive and Dine - Location TBA
DESCRIPTION:Join us on the third Tuesday of every month at 6:30 pm for great food and great conversation in celebration of great cars! \nThe location for this month is still TBA – venues are typically confirmed and communicated 6 – 8 weeks prior.
URL:https://schonesland.com/event/drive-and-dine-location-tba/2029-08-21/
LOCATION:IA
CATEGORIES:Social Events
ATTACH;FMTTYPE=image/png:https://schonesland.com/wp-content/uploads/2023/04/drive-and-dine.png
END:VEVENT
BEGIN:VEVENT
DTSTART;TZID=America/Chicago:20290908T080000
DTEND;TZID=America/Chicago:20290908T100000
DTSTAMP:20260421T111828
CREATED:20231231T163257Z
LAST-MODIFIED:20231231T163355Z
UID:10000705-1883548800-1883556000@schonesland.com
SUMMARY:Cars and Coffee – Cozy Cafe\, Johnston
DESCRIPTION:Join us the 2nd Saturday of every month at 8:00 am for coffee\, breakfast\, and perhaps a conversation or two about cars!
URL:https://schonesland.com/event/cars-and-coffee-cozy-cafe-johnston/2029-09-08/
LOCATION:Cozy Cafe Johnston\, 8385 Birchwood Ct\, Johnston\, IA\, 50131\, United States
CATEGORIES:Social Events
ATTACH;FMTTYPE=image/png:https://schonesland.com/wp-content/uploads/2023/03/cars-and-coffee.png
END:VEVENT
BEGIN:VEVENT
DTSTART;TZID=America/Chicago:20290918T183000
DTEND;TZID=America/Chicago:20290918T203000
DTSTAMP:20260421T111828
CREATED:20231231T162935Z
LAST-MODIFIED:20231231T163319Z
UID:10000599-1884450600-1884457800@schonesland.com
SUMMARY:Drive and Dine - Location TBA
DESCRIPTION:Join us on the third Tuesday of every month at 6:30 pm for great food and great conversation in celebration of great cars! \nThe location for this month is still TBA – venues are typically confirmed and communicated 6 – 8 weeks prior.
URL:https://schonesland.com/event/drive-and-dine-location-tba/2029-09-18/
LOCATION:IA
CATEGORIES:Social Events
ATTACH;FMTTYPE=image/png:https://schonesland.com/wp-content/uploads/2023/04/drive-and-dine.png
END:VEVENT
BEGIN:VEVENT
DTSTART;TZID=America/Chicago:20291013T080000
DTEND;TZID=America/Chicago:20291013T100000
DTSTAMP:20260421T111828
CREATED:20231231T163257Z
LAST-MODIFIED:20231231T163355Z
UID:10000706-1886572800-1886580000@schonesland.com
SUMMARY:Cars and Coffee – Cozy Cafe\, Johnston
DESCRIPTION:Join us the 2nd Saturday of every month at 8:00 am for coffee\, breakfast\, and perhaps a conversation or two about cars!
URL:https://schonesland.com/event/cars-and-coffee-cozy-cafe-johnston/2029-10-13/
LOCATION:Cozy Cafe Johnston\, 8385 Birchwood Ct\, Johnston\, IA\, 50131\, United States
CATEGORIES:Social Events
ATTACH;FMTTYPE=image/png:https://schonesland.com/wp-content/uploads/2023/03/cars-and-coffee.png
END:VEVENT
BEGIN:VEVENT
DTSTART;TZID=America/Chicago:20291016T183000
DTEND;TZID=America/Chicago:20291016T203000
DTSTAMP:20260421T111828
CREATED:20231231T162935Z
LAST-MODIFIED:20231231T163319Z
UID:10000600-1886869800-1886877000@schonesland.com
SUMMARY:Drive and Dine - Location TBA
DESCRIPTION:Join us on the third Tuesday of every month at 6:30 pm for great food and great conversation in celebration of great cars! \nThe location for this month is still TBA – venues are typically confirmed and communicated 6 – 8 weeks prior.
URL:https://schonesland.com/event/drive-and-dine-location-tba/2029-10-16/
LOCATION:IA
CATEGORIES:Social Events
ATTACH;FMTTYPE=image/png:https://schonesland.com/wp-content/uploads/2023/04/drive-and-dine.png
END:VEVENT
BEGIN:VEVENT
DTSTART;TZID=America/Chicago:20291110T080000
DTEND;TZID=America/Chicago:20291110T100000
DTSTAMP:20260421T111828
CREATED:20231231T163257Z
LAST-MODIFIED:20231231T163355Z
UID:10000707-1888992000-1888999200@schonesland.com
SUMMARY:Cars and Coffee – Cozy Cafe\, Johnston
DESCRIPTION:Join us the 2nd Saturday of every month at 8:00 am for coffee\, breakfast\, and perhaps a conversation or two about cars!
URL:https://schonesland.com/event/cars-and-coffee-cozy-cafe-johnston/2029-11-10/
LOCATION:Cozy Cafe Johnston\, 8385 Birchwood Ct\, Johnston\, IA\, 50131\, United States
CATEGORIES:Social Events
ATTACH;FMTTYPE=image/png:https://schonesland.com/wp-content/uploads/2023/03/cars-and-coffee.png
END:VEVENT
BEGIN:VEVENT
DTSTART;TZID=America/Chicago:20291120T183000
DTEND;TZID=America/Chicago:20291120T203000
DTSTAMP:20260421T111828
CREATED:20231231T162935Z
LAST-MODIFIED:20231231T163319Z
UID:10000618-1889893800-1889901000@schonesland.com
SUMMARY:Drive and Dine - Location TBA
DESCRIPTION:Join us on the third Tuesday of every month at 6:30 pm for great food and great conversation in celebration of great cars! \nThe location for this month is still TBA – venues are typically confirmed and communicated 6 – 8 weeks prior.
URL:https://schonesland.com/event/drive-and-dine-location-tba/2029-11-20/
LOCATION:IA
CATEGORIES:Social Events
ATTACH;FMTTYPE=image/png:https://schonesland.com/wp-content/uploads/2023/04/drive-and-dine.png
END:VEVENT
BEGIN:VEVENT
DTSTART;TZID=America/Chicago:20291208T080000
DTEND;TZID=America/Chicago:20291208T100000
DTSTAMP:20260421T111828
CREATED:20231231T163257Z
LAST-MODIFIED:20231231T163355Z
UID:10000708-1891411200-1891418400@schonesland.com
SUMMARY:Cars and Coffee – Cozy Cafe\, Johnston
DESCRIPTION:Join us the 2nd Saturday of every month at 8:00 am for coffee\, breakfast\, and perhaps a conversation or two about cars!
URL:https://schonesland.com/event/cars-and-coffee-cozy-cafe-johnston/2029-12-08/
LOCATION:Cozy Cafe Johnston\, 8385 Birchwood Ct\, Johnston\, IA\, 50131\, United States
CATEGORIES:Social Events
ATTACH;FMTTYPE=image/png:https://schonesland.com/wp-content/uploads/2023/03/cars-and-coffee.png
END:VEVENT
BEGIN:VEVENT
DTSTART;TZID=America/Chicago:20291218T183000
DTEND;TZID=America/Chicago:20291218T203000
DTSTAMP:20260421T111828
CREATED:20231231T162935Z
LAST-MODIFIED:20231231T163319Z
UID:10000619-1892313000-1892320200@schonesland.com
SUMMARY:Drive and Dine - Location TBA
DESCRIPTION:Join us on the third Tuesday of every month at 6:30 pm for great food and great conversation in celebration of great cars! \nThe location for this month is still TBA – venues are typically confirmed and communicated 6 – 8 weeks prior.
URL:https://schonesland.com/event/drive-and-dine-location-tba/2029-12-18/
LOCATION:IA
CATEGORIES:Social Events
ATTACH;FMTTYPE=image/png:https://schonesland.com/wp-content/uploads/2023/04/drive-and-dine.png
END:VEVENT
BEGIN:VEVENT
DTSTART;TZID=America/Chicago:20300112T080000
DTEND;TZID=America/Chicago:20300112T100000
DTSTAMP:20260421T111828
CREATED:20231231T163257Z
LAST-MODIFIED:20231231T163355Z
UID:10000709-1894435200-1894442400@schonesland.com
SUMMARY:Cars and Coffee – Cozy Cafe\, Johnston
DESCRIPTION:Join us the 2nd Saturday of every month at 8:00 am for coffee\, breakfast\, and perhaps a conversation or two about cars!
URL:https://schonesland.com/event/cars-and-coffee-cozy-cafe-johnston/2030-01-12/
LOCATION:Cozy Cafe Johnston\, 8385 Birchwood Ct\, Johnston\, IA\, 50131\, United States
CATEGORIES:Social Events
ATTACH;FMTTYPE=image/png:https://schonesland.com/wp-content/uploads/2023/03/cars-and-coffee.png
END:VEVENT
BEGIN:VEVENT
DTSTART;TZID=America/Chicago:20300115T183000
DTEND;TZID=America/Chicago:20300115T203000
DTSTAMP:20260421T111828
CREATED:20231231T162935Z
LAST-MODIFIED:20231231T163319Z
UID:10000620-1894732200-1894739400@schonesland.com
SUMMARY:Drive and Dine - Location TBA
DESCRIPTION:Join us on the third Tuesday of every month at 6:30 pm for great food and great conversation in celebration of great cars! \nThe location for this month is still TBA – venues are typically confirmed and communicated 6 – 8 weeks prior.
URL:https://schonesland.com/event/drive-and-dine-location-tba/2030-01-15/
LOCATION:IA
CATEGORIES:Social Events
ATTACH;FMTTYPE=image/png:https://schonesland.com/wp-content/uploads/2023/04/drive-and-dine.png
END:VEVENT
BEGIN:VEVENT
DTSTART;TZID=America/Chicago:20300209T080000
DTEND;TZID=America/Chicago:20300209T100000
DTSTAMP:20260421T111828
CREATED:20231231T163257Z
LAST-MODIFIED:20231231T163355Z
UID:10000710-1896854400-1896861600@schonesland.com
SUMMARY:Cars and Coffee – Cozy Cafe\, Johnston
DESCRIPTION:Join us the 2nd Saturday of every month at 8:00 am for coffee\, breakfast\, and perhaps a conversation or two about cars!
URL:https://schonesland.com/event/cars-and-coffee-cozy-cafe-johnston/2030-02-09/
LOCATION:Cozy Cafe Johnston\, 8385 Birchwood Ct\, Johnston\, IA\, 50131\, United States
CATEGORIES:Social Events
ATTACH;FMTTYPE=image/png:https://schonesland.com/wp-content/uploads/2023/03/cars-and-coffee.png
END:VEVENT
BEGIN:VEVENT
DTSTART;TZID=America/Chicago:20300219T183000
DTEND;TZID=America/Chicago:20300219T203000
DTSTAMP:20260421T111828
CREATED:20231231T162935Z
LAST-MODIFIED:20231231T163319Z
UID:10000622-1897756200-1897763400@schonesland.com
SUMMARY:Drive and Dine - Location TBA
DESCRIPTION:Join us on the third Tuesday of every month at 6:30 pm for great food and great conversation in celebration of great cars! \nThe location for this month is still TBA – venues are typically confirmed and communicated 6 – 8 weeks prior.
URL:https://schonesland.com/event/drive-and-dine-location-tba/2030-02-19/
LOCATION:IA
CATEGORIES:Social Events
ATTACH;FMTTYPE=image/png:https://schonesland.com/wp-content/uploads/2023/04/drive-and-dine.png
END:VEVENT
BEGIN:VEVENT
DTSTART;TZID=America/Chicago:20300309T080000
DTEND;TZID=America/Chicago:20300309T100000
DTSTAMP:20260421T111828
CREATED:20231231T163257Z
LAST-MODIFIED:20231231T163355Z
UID:10000711-1899273600-1899280800@schonesland.com
SUMMARY:Cars and Coffee – Cozy Cafe\, Johnston
DESCRIPTION:Join us the 2nd Saturday of every month at 8:00 am for coffee\, breakfast\, and perhaps a conversation or two about cars!
URL:https://schonesland.com/event/cars-and-coffee-cozy-cafe-johnston/2030-03-09/
LOCATION:Cozy Cafe Johnston\, 8385 Birchwood Ct\, Johnston\, IA\, 50131\, United States
CATEGORIES:Social Events
ATTACH;FMTTYPE=image/png:https://schonesland.com/wp-content/uploads/2023/03/cars-and-coffee.png
END:VEVENT
END:VCALENDAR