BEGIN:VCALENDAR
VERSION:2.0
PRODID:-//PCA Schonesland - ECPv6.15.20//NONSGML v1.0//EN
CALSCALE:GREGORIAN
METHOD:PUBLISH
X-WR-CALNAME:PCA Schonesland
X-ORIGINAL-URL:https://schonesland.com
X-WR-CALDESC:Events for PCA Schonesland
REFRESH-INTERVAL;VALUE=DURATION:PT1H
X-Robots-Tag:noindex
X-PUBLISHED-TTL:PT1H
BEGIN:VTIMEZONE
TZID:America/Chicago
BEGIN:DAYLIGHT
TZOFFSETFROM:-0600
TZOFFSETTO:-0500
TZNAME:CDT
DTSTART:20230312T080000
END:DAYLIGHT
BEGIN:STANDARD
TZOFFSETFROM:-0500
TZOFFSETTO:-0600
TZNAME:CST
DTSTART:20231105T070000
END:STANDARD
BEGIN:DAYLIGHT
TZOFFSETFROM:-0600
TZOFFSETTO:-0500
TZNAME:CDT
DTSTART:20240310T080000
END:DAYLIGHT
BEGIN:STANDARD
TZOFFSETFROM:-0500
TZOFFSETTO:-0600
TZNAME:CST
DTSTART:20241103T070000
END:STANDARD
BEGIN:DAYLIGHT
TZOFFSETFROM:-0600
TZOFFSETTO:-0500
TZNAME:CDT
DTSTART:20250309T080000
END:DAYLIGHT
BEGIN:STANDARD
TZOFFSETFROM:-0500
TZOFFSETTO:-0600
TZNAME:CST
DTSTART:20251102T070000
END:STANDARD
END:VTIMEZONE
BEGIN:VEVENT
DTSTART;VALUE=DATE:20240829
DTEND;VALUE=DATE:20240903
DTSTAMP:20260422T205817
CREATED:20231231T222338Z
LAST-MODIFIED:20240730T221149Z
UID:10000508-1724889600-1725321599@schonesland.com
SUMMARY:Schonesland 2024 Eureka Springs Arkansas Drive
DESCRIPTION:Registration ends in 4 months at August 15\, 2024 11:59 PM CDT. Click here to register on MSR! \n\nSchonesland Porsche Club Eureka Springs Arkansas Tour. This event is open only to Schonesland Porsche Club Members. \nPlease note that this drive is capped at 20 cars and that it sold out in 2023! \nThis event takes place over the Labor Day Weekend \nWe will be using the same phenomenal roads as in 2023. The roads in Arkansas are amazing\, this is a driver’s drive and pretty much the best driving tour the club offers. \nSchedule: \nWe formally start the drive from Joplin\, Missouri with a welcome dinner Thursday night at the Mythos Greek restaurant that we have enjoyed last several years. Most of us will drive together from Des Moines to Joplin on Thursday (this part of the trip is not PCA sanctioned) with a lunch stop at the Toot Toot restaurant in Bethany\, MO. If you are unable to join us in Joplin\, you can join the group in Eureka Springs for Saturday’s and Sunday’s drives\, but you would miss a fantastic day of driving on Friday from Joplin to Eureka Springs with a nice Lunch Stop at the Flat Creek Restaurant in Fair Hope\, MO. \nDrives: \nFor those driving together to Joplin on Thursday\, we will meet at Hotel Renovo parking lot at 10:00 am with a planned departure at 10:15. \nFriday morning\, drive from Joplin to Eureka Springs through southern Missouri and Arkansas with the aforementioned lunch stop In Fair Hope and a couple of pit stops. \nSaturday morning\, drive south from Eureka Springs to Oark for lunch at the Oark General Store returning to Eureka Springs through the Ozark Francis National Forest. Saturday’s drive has been changed due to significant road construction. It now covers Southern Parts of Missouri and Northern parts of Arkansas with lunch at the Beacon Point Restaurant in the Bull Shoals general area. \nSunday morning\, drive from Eureka Springs via Ponca to Jasper for lunch at the Ozark Café continuing to Mt. Judea (on the incredible Hwy 123) and then returning to Eureka Springs via the North-Eastern route. \nMonday morning\, driving home (optional and not PCA sanctioned) will include some good roads and minimal interstate use.  \nIf you choose to participate in just some parts of the drive\, please notify Garry Seemann or Skip Hammerman to allow for us to plan on attendance at restaurants. \nPlease note that registration here on Motorsportreg.com will not reserve your hotel rooms. You must call the hotels directly to make your reservations (information below). \nHOTELS: \n8/29 – one night – Hilton Garden Inn Joplin \nNOTE: THIS HOTEL IS NO LONGER IN THE HILTON SYSTEM AND IS IN BRAND TRANSITION AT THIS TIME. PLEASE CONTACT SKIP AT 515-419-8734 or skiphammerman@msn.com for any needs or changes to your existing reservations. Also\, if you just registered for the drive contact Skip to make the reservation at this hotel. You need to book the other hotel on your own. \n2644 E 32nd St.\, Joplin\, MO 64804 \nPhone: 417-206-6700. Room Rate: $124. \n8/30 through 9/1 (Checking out 9/2) – three nights – Best Western Eureka Springs – ask for the rooms under Schonesland Porsche Club \n207 W Van Buren Highway 62 West\, Eureka Springs\, AR 72632 (not the same one as in previous years in Eureka Springs) \nPhone 479-253-9768 Room Rate: $142 on Friday and Saturday\, $134 on Sunday \nWe have made arrangements and have reservations in multiple excellent restaurants in Eureka Springs. If you have not been to Eureka Springs or are not familiar with this unique town\, you can get a quick overview here: https://issuu.com/eurekaspringschamber/docs/2023_visitor_guide_final_for_web \nIf you want to participate on this drive: \nRegister here on Motorsportsreg.com. Add your name and number of participants\, there is no cost for this drive. \nBook your room(s) now\, this being Labor Day weekend the preferred rooms may be booked soon.
URL:https://schonesland.com/event/eureka-springs-arkansas-driving-tour-2024/
LOCATION:Hotel Renovo Urbandale\, 11167 Hickman Rd\, Urbandale\, IA\, 50322\, United States
CATEGORIES:Driving Tours
ATTACH;FMTTYPE=image/jpeg:https://schonesland.com/wp-content/uploads/2023/12/Eureka-Springs-scaled.jpg
END:VEVENT
BEGIN:VEVENT
DTSTART;VALUE=DATE:20240906
DTEND;VALUE=DATE:20240909
DTSTAMP:20260422T205817
CREATED:20231231T230539Z
LAST-MODIFIED:20240828T004210Z
UID:10000515-1725580800-1725839999@schonesland.com
SUMMARY:2024 Des Moines Concours
DESCRIPTION:A CELEBRATION OF THE ART & DESIGN OF THE AUTOMOBILE\nCreate your memories at the Des Moines Concours d’Elegance™\, a premier automotive exhibition held at the internationally recognized John and Mary Pappajohn Sculpture Park in downtown Des Moines. The Concours presents an exhibition of vintage and classic motor vehicles\, selected to celebrate the fine art\, design evolution and amazing innovations of motor vehicles through the years\, as well as the talented designers and engineers who created them. This exhibition is a free event. \nPorsche fanatics will find both our very own PCA Schonesland Region display and in an incredible 15-car Porsche 911 exhibit\, representing 9 generations of the world’s most iconic sports car. \n  \nFRIDAY\, SEPTEMBER 6TH\n3rd Annual Des Moines Concours Charity Gala\nSeptember 6th will be a really fun\, quality evening at the fabulous Stine Barn\, located at 4000 Turnberry Drive\, West Des Moines. The event runs from 5:30 to 9:00 pm with a Silent Auction and a program. Get more information HERE \n  \nSATURDAY\, SEPTEMBER 7TH\n2024 Heartland Driving Tour – starts at 7:30 am \nThe 2024 Heartland Driving Tour takes drivers back in time along an historic highway and through Iowa towns and countryside. Get more information HERE \n  \nSUNDAY\, SEPTEMBER 8TH\n10 a.m. to 4 p.m.: Des Moines Concours d’Elegance at the Pappajohn Sculpture Park in Des Moines (Grand and Locust between 12th and 16th Streets). \n\nExhibit of more than 150 cars\nMidway featuring food\, merchandise and service vendors\nA radio controlled car race track\, photo booth and more for the entire family!\nCar Clubs from Des Moines area showcase cars from members (west of 16th Street on Grand)\n\n  \nPlease check the Des Moines Concours Facebook feed for the most current information. Proceeds from the 2024 Des Moines Concours d’Elegance™ will benefit the Children’s Cancer Connection. CCC’s mission is to connect Iowa families affected by childhood cancer by providing opportunities that encourage relationships and strengthen community \n  \n \n 
URL:https://schonesland.com/event/2024-des-moines-concours/
LOCATION:IA
CATEGORIES:Non-PCA Social Events
ATTACH;FMTTYPE=image/png:https://schonesland.com/wp-content/uploads/2023/12/Screenshot_20240827-1940402.png
END:VEVENT
BEGIN:VEVENT
DTSTART;TZID=America/Chicago:20240914T080000
DTEND;TZID=America/Chicago:20240914T100000
DTSTAMP:20260422T205817
CREATED:20231231T163257Z
LAST-MODIFIED:20231231T163355Z
UID:10000450-1726300800-1726308000@schonesland.com
SUMMARY:Cars and Coffee – Cozy Cafe\, Johnston
DESCRIPTION:Join us the 2nd Saturday of every month at 8:00 am for coffee\, breakfast\, and perhaps a conversation or two about cars!
URL:https://schonesland.com/event/cars-and-coffee-cozy-cafe-johnston/2024-09-14/
LOCATION:Cozy Cafe Johnston\, 8385 Birchwood Ct\, Johnston\, IA\, 50131\, United States
CATEGORIES:Social Events
ATTACH;FMTTYPE=image/png:https://schonesland.com/wp-content/uploads/2023/03/cars-and-coffee.png
END:VEVENT
BEGIN:VEVENT
DTSTART;TZID=America/Chicago:20240914T090000
DTEND;TZID=America/Chicago:20240914T130000
DTSTAMP:20260422T205817
CREATED:20240616T004013Z
LAST-MODIFIED:20240906T172824Z
UID:10000536-1726304400-1726318800@schonesland.com
SUMMARY:Schonesland 2024 MA Hill Charity Drive
DESCRIPTION:About this event\n\nRegistration is now open here at MotorsportReg! \nThis is the annual MA Hill Charity Drive! We are honoring MA Hill and everything she did for our club. She was the first female president of Schonesland PCA. Everyone knew Mary Alice! She was always there with a smile\, laugh\, or ear to listen! \nThe format will be a poker run so you can go at your own pace. \nWe’ll depart from the AMC movie theater near our Cars & Coffee location in Johnston. We’ll do a driver’s meeting at 9:00AM to be on the road by 9:30AM. We’ll conclude the run (and see who got the best hand) at lunch at Smokey D’s BBQ. \nCost per hand played is $20. All monies raised will be donated to Big Sisters which was MA’s favorite charity. \nIf you would like to add to the club’s donation to Big Sisters\, but are not able to participate or do not want to purchase additional hands\, our Venmo is @SchoneslandPorscheClub (or search Schonesland under Business on Venmo) and be sure to put MA Hill in the comments so we know that money is to be donated. \n\n\n\n\n\n\nEvent requirements\n\nPrice per hand played is $20. Play as many hands as you like. You can mix and match all of your cards to get a better hand!
URL:https://schonesland.com/event/save-the-date-schonesland-2024-ma-hill-charity-drive/
LOCATION:Cozy Cafe Johnston\, 8385 Birchwood Ct\, Johnston\, IA\, 50131\, United States
CATEGORIES:Driving Tours
ATTACH;FMTTYPE=image/jpeg:https://schonesland.com/wp-content/uploads/2023/04/MA-912E.jpg
END:VEVENT
BEGIN:VEVENT
DTSTART;TZID=America/Chicago:20240917T183000
DTEND;TZID=America/Chicago:20240917T203000
DTSTAMP:20260422T205817
CREATED:20240722T141103Z
LAST-MODIFIED:20240722T141106Z
UID:10000390-1726597800-1726605000@schonesland.com
SUMMARY:Drive and Dine - Either/Or\, Des Moines
DESCRIPTION:Join us on the third Tuesday of every month at 6:30 pm for great food and great conversation in celebration of great cars! \nThis September we’ll be meeting at Either/Or in Des Moines. You can check out their menu here!
URL:https://schonesland.com/event/drive-and-dine-location-tba-12/
LOCATION:IA
CATEGORIES:Social Events
ATTACH;FMTTYPE=image/png:https://schonesland.com/wp-content/uploads/2023/04/drive-and-dine.png
END:VEVENT
BEGIN:VEVENT
DTSTART;VALUE=DATE:20240921
DTEND;VALUE=DATE:20240922
DTSTAMP:20260422T205817
CREATED:20240124T003736Z
LAST-MODIFIED:20240124T003736Z
UID:10000530-1726876800-1726963199@schonesland.com
SUMMARY:SCCA / MIDIV Time Trials and Track Experience - Pacific Junction\, IA (not a PCA event)
DESCRIPTION:This Time Trials and Track Experience is being held at Raceway Park of the Midlands in Pacific Junction\, IA. Visit https://www.dmvrscca.org/club-trials-schedule/ for additional information.
URL:https://schonesland.com/event/scca-midiv-time-trials-and-track-experience-pacific-junction-ia-not-a-pca-event/
LOCATION:IA
CATEGORIES:Non-PCA Driving Events
ATTACH;FMTTYPE=image/png:https://schonesland.com/wp-content/uploads/2023/04/non-pca-driving.png
END:VEVENT
BEGIN:VEVENT
DTSTART;VALUE=DATE:20240921
DTEND;VALUE=DATE:20240923
DTSTAMP:20260422T205817
CREATED:20240124T003325Z
LAST-MODIFIED:20240124T003325Z
UID:10000526-1726876800-1727049599@schonesland.com
SUMMARY:DMVR SCCA Autocross (not a PCA event)
DESCRIPTION:This autocross event is being held at Valley West Mall. Visit https://www.facebook.com/groups/DMVRSCCA for additional information.
URL:https://schonesland.com/event/dmvr-scca-autocross-not-a-pca-event-10/
LOCATION:IA
CATEGORIES:Non-PCA Driving Events
ATTACH;FMTTYPE=image/png:https://schonesland.com/wp-content/uploads/2023/04/non-pca-driving.png
END:VEVENT
BEGIN:VEVENT
DTSTART;VALUE=DATE:20240929
DTEND;VALUE=DATE:20241004
DTSTAMP:20260422T205817
CREATED:20240124T002933Z
LAST-MODIFIED:20240124T002933Z
UID:10000519-1727568000-1727999999@schonesland.com
SUMMARY:PCA Fall Treffen - Mount Washington
DESCRIPTION:Treffen – “to meet”. That is the entire concept behind the PCA Treffens: an opportunity for PCA members to meet their fellow Porsche enthusiasts in some of the most spectacular locations in North America. From the ski valleys of Tahoe and the Hill Country of Texas to the beautiful scenery of New Mexico and the mountains of Western Canada\, PCA’s Treffens provide the opportunity for members to drive some of the best roads in North America and enjoy four- to five-star hospitality at world-class hotels. \nThe Treffen North America emphasis is on the social side: meet your PCA friends\, but perhaps\, more importantly\, make new friends who enjoy the same type of exclusive experience that the Treffens provide – spectacular hotels and unique driving opportunities set in locations offering unparalleled scenery and luxury. \nPCA has put together a four-day event with an emphasis on guided tours hosted by the knowledgeable local Regions’ experts and a Navigators Day Off to allow for doing just what you want that day\, with several opportunities for different local and resort activities\, all prepared with you and your well-being in mind. After a hearty breakfast\, explore scenic driving roads like the Lake Tahoe loop road\, Hill Country’s best\, Tail of the Dragon\, Route 66 and Canada Highway 1 to destinations both beautiful and historic\, with lunches included. Return to the host hotel and enjoy a grand Happy Hour with your friends before sitting down to sumptuous meals. Treffens do not include competition\, other than how many new friends you can make and how you can enjoy your time in a unique location. \nJoin us at a future PCA Treffen. It’s time for you ‘to meet’ up with your fellow PCA enthusiasts in an environment unlike anything else you have ever experienced with PCA!
URL:https://schonesland.com/event/pca-fall-treffen-mount-washington/
LOCATION:IA
CATEGORIES:PCA National Events
ATTACH;FMTTYPE=image/png:https://schonesland.com/wp-content/uploads/2024/01/PCA-Logo-Small.png
END:VEVENT
END:VCALENDAR