BEGIN:VCALENDAR
VERSION:2.0
PRODID:-//PCA Schonesland - ECPv6.15.20//NONSGML v1.0//EN
CALSCALE:GREGORIAN
METHOD:PUBLISH
X-ORIGINAL-URL:https://schonesland.com
X-WR-CALDESC:Events for PCA Schonesland
REFRESH-INTERVAL;VALUE=DURATION:PT1H
X-Robots-Tag:noindex
X-PUBLISHED-TTL:PT1H
BEGIN:VTIMEZONE
TZID:America/Chicago
BEGIN:DAYLIGHT
TZOFFSETFROM:-0600
TZOFFSETTO:-0500
TZNAME:CDT
DTSTART:20250309T080000
END:DAYLIGHT
BEGIN:STANDARD
TZOFFSETFROM:-0500
TZOFFSETTO:-0600
TZNAME:CST
DTSTART:20251102T070000
END:STANDARD
BEGIN:DAYLIGHT
TZOFFSETFROM:-0600
TZOFFSETTO:-0500
TZNAME:CDT
DTSTART:20260308T080000
END:DAYLIGHT
BEGIN:STANDARD
TZOFFSETFROM:-0500
TZOFFSETTO:-0600
TZNAME:CST
DTSTART:20261101T070000
END:STANDARD
BEGIN:DAYLIGHT
TZOFFSETFROM:-0600
TZOFFSETTO:-0500
TZNAME:CDT
DTSTART:20270314T080000
END:DAYLIGHT
BEGIN:STANDARD
TZOFFSETFROM:-0500
TZOFFSETTO:-0600
TZNAME:CST
DTSTART:20271107T070000
END:STANDARD
END:VTIMEZONE
BEGIN:VEVENT
DTSTART;VALUE=DATE:20261004
DTEND;VALUE=DATE:20261005
DTSTAMP:20260421T054131
CREATED:20260301T034807Z
LAST-MODIFIED:20260301T040545Z
UID:10000766-1791072000-1791158399@schonesland.com
SUMMARY:DMVR SCCA Autocross Competition (not a PCA event)
DESCRIPTION:DMVR SCCA is hosting an autocross autocross competition on Sunday\, October 4 at Bell Ave Business Park in Des Moines. For more information\, visit DMVR’s Facebook page or the DMVR SCCA website (note: website information updates may occasionally lag behind those on Facebook).
URL:https://schonesland.com/event/dmvr-scca-autocross-competition-oct-2026/
LOCATION:Bell Ave Business Park\, 307 Bell Ave\, Des Moines\, 50315\, United States
CATEGORIES:Non-PCA Driving Events
ATTACH;FMTTYPE=image/png:https://schonesland.com/wp-content/uploads/2023/04/non-pca-driving.png
END:VEVENT
END:VCALENDAR