BEGIN:VCALENDAR
VERSION:2.0
PRODID:-//PCA Schonesland - ECPv6.15.20//NONSGML v1.0//EN
CALSCALE:GREGORIAN
METHOD:PUBLISH
X-ORIGINAL-URL:https://schonesland.com
X-WR-CALDESC:Events for PCA Schonesland
REFRESH-INTERVAL;VALUE=DURATION:PT1H
X-Robots-Tag:noindex
X-PUBLISHED-TTL:PT1H
BEGIN:VTIMEZONE
TZID:America/Chicago
BEGIN:DAYLIGHT
TZOFFSETFROM:-0600
TZOFFSETTO:-0500
TZNAME:CDT
DTSTART:20230312T080000
END:DAYLIGHT
BEGIN:STANDARD
TZOFFSETFROM:-0500
TZOFFSETTO:-0600
TZNAME:CST
DTSTART:20231105T070000
END:STANDARD
BEGIN:DAYLIGHT
TZOFFSETFROM:-0600
TZOFFSETTO:-0500
TZNAME:CDT
DTSTART:20240310T080000
END:DAYLIGHT
BEGIN:STANDARD
TZOFFSETFROM:-0500
TZOFFSETTO:-0600
TZNAME:CST
DTSTART:20241103T070000
END:STANDARD
BEGIN:DAYLIGHT
TZOFFSETFROM:-0600
TZOFFSETTO:-0500
TZNAME:CDT
DTSTART:20250309T080000
END:DAYLIGHT
BEGIN:STANDARD
TZOFFSETFROM:-0500
TZOFFSETTO:-0600
TZNAME:CST
DTSTART:20251102T070000
END:STANDARD
END:VTIMEZONE
BEGIN:VEVENT
DTSTART;VALUE=DATE:20240427
DTEND;VALUE=DATE:20240429
DTSTAMP:20260421T035656
CREATED:20231231T221401Z
LAST-MODIFIED:20240425T230130Z
UID:10000503-1714176000-1714348799@schonesland.com
SUMMARY:Loess Hills Driving Tour 2024
DESCRIPTION:Registration ends at April 22\, 2024 11:59 PM CDT \n\nSaturday and Sunday\, April 27th & 28th should be on your calendars for the 2024 Loess Hills Run to Sioux City. Leaving from Hy-Vee Fast and Fresh\, 1025 E Hickman Rd\, Waukee\, IA 50263 on Saturday morning (arrive at 7:30 am)\, we’ll drive west on scenic Highway 44 to the Loess Hills in western Iowa. After a stop for lunch\, we’ll hustle up the Byway’s thrilling twists and turns thru the hills and valleys to arrive at the Marriott Riverfront Hotel in South Sioux City\, NE in time to check into our rooms and gather in the bar for a little refreshment and tales from the trail.  Then\, we’ll move to the Highlands Room at Kahill’s Chop House for a private evening of great food\, beverage and fellowship; cocktails at 6:00\, dinner at 7:00. \nSunday morning offers a return to Central Iowa by taking either the express route (Interstates 29 and 80) or the scenic route by going back down the Byway when it’s virtually deserted.  The Loess Hills Scenic Byway is on the United States Registry of Scenic Byways and one of our most popular drives of the season\, enjoyed by Schoneslanders since 2009. These roads are MADE for Porsches! \nA block of 30 rooms with special group rates of $140 or $150/night\, depending on view\, has been reserved under “Schonesland Region Porsche Club” with a mixture of king and double queen rooms on the river side and the parking lot side. The easiest way to reserve your room is to click on the link below\, which will take you right to our block of rooms.  OR\, you may call the Hotel directly at 402-494-4000 (option 1) to reserve your room. There is a 48-hour cancellation policy.  Get em while they’re hot!  The registration deadline is SATURDAY\, APRIL 6th. \nHotel reservation link: Book your group rate for Schonesland Porsche Club \nThis page also will allow you to choose entree and dessert items for you and your navigator for Saturday night’s dinner. \nIf you have any questions\, please contact trail boss\, Cam Torstenson at 515-333-1612 or cameron@torstenson.com \nClick here to register for the drive!
URL:https://schonesland.com/event/loess-hills-driving-tour-2024/
LOCATION:1025 E Hickman Rd\, Waukee\, IA\, 50263\, United States
CATEGORIES:Driving Tours
ATTACH;FMTTYPE=image/jpeg:https://schonesland.com/wp-content/uploads/2023/12/Loess.jpg
END:VEVENT
END:VCALENDAR