BEGIN:VCALENDAR
VERSION:2.0
PRODID:-//PCA Schonesland - ECPv6.15.20//NONSGML v1.0//EN
CALSCALE:GREGORIAN
METHOD:PUBLISH
X-ORIGINAL-URL:https://schonesland.com
X-WR-CALDESC:Events for PCA Schonesland
REFRESH-INTERVAL;VALUE=DURATION:PT1H
X-Robots-Tag:noindex
X-PUBLISHED-TTL:PT1H
BEGIN:VTIMEZONE
TZID:America/Chicago
BEGIN:DAYLIGHT
TZOFFSETFROM:-0600
TZOFFSETTO:-0500
TZNAME:CDT
DTSTART:20240310T080000
END:DAYLIGHT
BEGIN:STANDARD
TZOFFSETFROM:-0500
TZOFFSETTO:-0600
TZNAME:CST
DTSTART:20241103T070000
END:STANDARD
BEGIN:DAYLIGHT
TZOFFSETFROM:-0600
TZOFFSETTO:-0500
TZNAME:CDT
DTSTART:20250309T080000
END:DAYLIGHT
BEGIN:STANDARD
TZOFFSETFROM:-0500
TZOFFSETTO:-0600
TZNAME:CST
DTSTART:20251102T070000
END:STANDARD
BEGIN:DAYLIGHT
TZOFFSETFROM:-0600
TZOFFSETTO:-0500
TZNAME:CDT
DTSTART:20260308T080000
END:DAYLIGHT
BEGIN:STANDARD
TZOFFSETFROM:-0500
TZOFFSETTO:-0600
TZNAME:CST
DTSTART:20261101T070000
END:STANDARD
END:VTIMEZONE
BEGIN:VEVENT
DTSTART;TZID=America/Chicago:20251206T173000
DTEND;TZID=America/Chicago:20251206T223000
DTSTAMP:20260423T074201
CREATED:20250124T025640Z
LAST-MODIFIED:20251028T212525Z
UID:10000617-1765042200-1765060200@schonesland.com
SUMMARY:Schonesland 2025 Holiday Party - Jasper Winery
DESCRIPTION:This year’s event will be held Saturday\, December 6th at Jasper Winery in Des Moines. \nAppetizers and drinks (cash bar – wine and beer only\, but a nice selection of both) will begin at 5:30PM. A dinner buffet\, including a prime rib carving station\, will be offered at 7PM. After dinner\, desserts and coffee service will be provided as well. \nJasper Winery has a convenient parking lot with plenty of space! \nPrice is $70 per person (plus applicable MSR booking fees). Registration ends on November 23\, 2025 at midnight. Please note that no refunds will be issued for cancellations made after November 23\, 2025. \nRegistration for the 2025 holiday party is now open. Click the MSR image above to get started!
URL:https://schonesland.com/event/schonesland-2025-holiday-party/
LOCATION:Jasper Winery Des Moines\, 2400 George Flagg Pkwy\, Des Moines\, IA\, 50321\, United States
CATEGORIES:Social Events
ATTACH;FMTTYPE=image/png:https://schonesland.com/wp-content/uploads/2023/03/944_Hero.png
END:VEVENT
END:VCALENDAR