BEGIN:VCALENDAR
VERSION:2.0
PRODID:-//PCA Schonesland - ECPv6.15.20//NONSGML v1.0//EN
CALSCALE:GREGORIAN
METHOD:PUBLISH
X-ORIGINAL-URL:https://schonesland.com
X-WR-CALDESC:Events for PCA Schonesland
REFRESH-INTERVAL;VALUE=DURATION:PT1H
X-Robots-Tag:noindex
X-PUBLISHED-TTL:PT1H
BEGIN:VTIMEZONE
TZID:America/Chicago
BEGIN:DAYLIGHT
TZOFFSETFROM:-0600
TZOFFSETTO:-0500
TZNAME:CDT
DTSTART:20250309T080000
END:DAYLIGHT
BEGIN:STANDARD
TZOFFSETFROM:-0500
TZOFFSETTO:-0600
TZNAME:CST
DTSTART:20251102T070000
END:STANDARD
BEGIN:DAYLIGHT
TZOFFSETFROM:-0600
TZOFFSETTO:-0500
TZNAME:CDT
DTSTART:20260308T080000
END:DAYLIGHT
BEGIN:STANDARD
TZOFFSETFROM:-0500
TZOFFSETTO:-0600
TZNAME:CST
DTSTART:20261101T070000
END:STANDARD
BEGIN:DAYLIGHT
TZOFFSETFROM:-0600
TZOFFSETTO:-0500
TZNAME:CDT
DTSTART:20270314T080000
END:DAYLIGHT
BEGIN:STANDARD
TZOFFSETFROM:-0500
TZOFFSETTO:-0600
TZNAME:CST
DTSTART:20271107T070000
END:STANDARD
END:VTIMEZONE
BEGIN:VEVENT
DTSTART;TZID=America/Chicago:20260217T183000
DTEND;TZID=America/Chicago:20260217T203000
DTSTAMP:20260421T072618
CREATED:20251113T000057Z
LAST-MODIFIED:20251113T000705Z
UID:10000407-1771353000-1771360200@schonesland.com
SUMMARY:Drive and Dine - Urban Cellar\, Urbandale
DESCRIPTION:Join us on the third Tuesday of every month at 6:30 pm for great food and great conversation in celebration of great cars! \nIn February we’ll be meeting at Urban Cellar Wine Bar\, Grille\, and Market in Urbandale. You can find their menu here. See you there!
URL:https://schonesland.com/event/drive-and-dine-feb-2026/
LOCATION:Urban Cellar Urbandale\, 640 S 50th St Suite #2110\, West Des Moines\, IA\, 50265\, United States
CATEGORIES:Social Events
ATTACH;FMTTYPE=image/png:https://schonesland.com/wp-content/uploads/2023/04/drive-and-dine.png
END:VEVENT
END:VCALENDAR